BEGIN:VCALENDAR
VERSION:2.0
PRODID:-//Merrick Drive Church of Christ - ECPv6.14.1//NONSGML v1.0//EN
CALSCALE:GREGORIAN
METHOD:PUBLISH
X-ORIGINAL-URL:https://merrickdrivechurch.com
X-WR-CALDESC:Events for Merrick Drive Church of Christ
REFRESH-INTERVAL;VALUE=DURATION:PT1H
X-Robots-Tag:noindex
X-PUBLISHED-TTL:PT1H
BEGIN:VTIMEZONE
TZID:America/Chicago
BEGIN:DAYLIGHT
TZOFFSETFROM:-0600
TZOFFSETTO:-0500
TZNAME:CDT
DTSTART:20280312T080000
END:DAYLIGHT
BEGIN:STANDARD
TZOFFSETFROM:-0500
TZOFFSETTO:-0600
TZNAME:CST
DTSTART:20281105T070000
END:STANDARD
END:VTIMEZONE
BEGIN:VEVENT
DTSTART;TZID=America/Chicago:20280813T090000
DTEND;TZID=America/Chicago:20280813T100000
DTSTAMP:20260421T184846
CREATED:20250717T221725Z
LAST-MODIFIED:20250717T222621Z
UID:10000161-1849770000-1849773600@merrickdrivechurch.com
SUMMARY:Sunday Worship
DESCRIPTION:
URL:https://merrickdrivechurch.com/event/sunday-worship/2028-08-13/
LOCATION:Merrick Drive Church\, 1951 Merrick Drive\, Ardmore\, OK\, 73401\, United States
END:VEVENT
BEGIN:VEVENT
DTSTART;TZID=America/Chicago:20280813T103000
DTEND;TZID=America/Chicago:20280813T120000
DTSTAMP:20260421T184846
CREATED:20250717T222015Z
LAST-MODIFIED:20250717T222549Z
UID:10000422-1849775400-1849780800@merrickdrivechurch.com
SUMMARY:Bible Classes for All Ages
DESCRIPTION:
URL:https://merrickdrivechurch.com/event/bible-classes-for-all-ages/2028-08-13/
LOCATION:Merrick Drive Church\, 1951 Merrick Drive\, Ardmore\, OK\, 73401\, United States
END:VEVENT
BEGIN:VEVENT
DTSTART;TZID=America/Chicago:20280820T090000
DTEND;TZID=America/Chicago:20280820T100000
DTSTAMP:20260421T184846
CREATED:20250717T221725Z
LAST-MODIFIED:20250717T222621Z
UID:10000162-1850374800-1850378400@merrickdrivechurch.com
SUMMARY:Sunday Worship
DESCRIPTION:
URL:https://merrickdrivechurch.com/event/sunday-worship/2028-08-20/
LOCATION:Merrick Drive Church\, 1951 Merrick Drive\, Ardmore\, OK\, 73401\, United States
END:VEVENT
BEGIN:VEVENT
DTSTART;TZID=America/Chicago:20280820T103000
DTEND;TZID=America/Chicago:20280820T120000
DTSTAMP:20260421T184846
CREATED:20250717T222015Z
LAST-MODIFIED:20250717T222549Z
UID:10000423-1850380200-1850385600@merrickdrivechurch.com
SUMMARY:Bible Classes for All Ages
DESCRIPTION:
URL:https://merrickdrivechurch.com/event/bible-classes-for-all-ages/2028-08-20/
LOCATION:Merrick Drive Church\, 1951 Merrick Drive\, Ardmore\, OK\, 73401\, United States
END:VEVENT
BEGIN:VEVENT
DTSTART;TZID=America/Chicago:20280827T090000
DTEND;TZID=America/Chicago:20280827T100000
DTSTAMP:20260421T184846
CREATED:20250717T221725Z
LAST-MODIFIED:20250717T222621Z
UID:10000163-1850979600-1850983200@merrickdrivechurch.com
SUMMARY:Sunday Worship
DESCRIPTION:
URL:https://merrickdrivechurch.com/event/sunday-worship/2028-08-27/
LOCATION:Merrick Drive Church\, 1951 Merrick Drive\, Ardmore\, OK\, 73401\, United States
END:VEVENT
BEGIN:VEVENT
DTSTART;TZID=America/Chicago:20280827T103000
DTEND;TZID=America/Chicago:20280827T120000
DTSTAMP:20260421T184846
CREATED:20250717T222015Z
LAST-MODIFIED:20250717T222549Z
UID:10000424-1850985000-1850990400@merrickdrivechurch.com
SUMMARY:Bible Classes for All Ages
DESCRIPTION:
URL:https://merrickdrivechurch.com/event/bible-classes-for-all-ages/2028-08-27/
LOCATION:Merrick Drive Church\, 1951 Merrick Drive\, Ardmore\, OK\, 73401\, United States
END:VEVENT
BEGIN:VEVENT
DTSTART;TZID=America/Chicago:20280903T090000
DTEND;TZID=America/Chicago:20280903T100000
DTSTAMP:20260421T184846
CREATED:20250717T221725Z
LAST-MODIFIED:20250717T222621Z
UID:10000164-1851584400-1851588000@merrickdrivechurch.com
SUMMARY:Sunday Worship
DESCRIPTION:
URL:https://merrickdrivechurch.com/event/sunday-worship/2028-09-03/
LOCATION:Merrick Drive Church\, 1951 Merrick Drive\, Ardmore\, OK\, 73401\, United States
END:VEVENT
BEGIN:VEVENT
DTSTART;TZID=America/Chicago:20280903T103000
DTEND;TZID=America/Chicago:20280903T120000
DTSTAMP:20260421T184846
CREATED:20250717T222015Z
LAST-MODIFIED:20250717T222549Z
UID:10000425-1851589800-1851595200@merrickdrivechurch.com
SUMMARY:Bible Classes for All Ages
DESCRIPTION:
URL:https://merrickdrivechurch.com/event/bible-classes-for-all-ages/2028-09-03/
LOCATION:Merrick Drive Church\, 1951 Merrick Drive\, Ardmore\, OK\, 73401\, United States
END:VEVENT
BEGIN:VEVENT
DTSTART;TZID=America/Chicago:20280910T090000
DTEND;TZID=America/Chicago:20280910T100000
DTSTAMP:20260421T184846
CREATED:20250717T221725Z
LAST-MODIFIED:20250717T222621Z
UID:10000165-1852189200-1852192800@merrickdrivechurch.com
SUMMARY:Sunday Worship
DESCRIPTION:
URL:https://merrickdrivechurch.com/event/sunday-worship/2028-09-10/
LOCATION:Merrick Drive Church\, 1951 Merrick Drive\, Ardmore\, OK\, 73401\, United States
END:VEVENT
BEGIN:VEVENT
DTSTART;TZID=America/Chicago:20280910T103000
DTEND;TZID=America/Chicago:20280910T120000
DTSTAMP:20260421T184846
CREATED:20250717T222015Z
LAST-MODIFIED:20250717T222549Z
UID:10000426-1852194600-1852200000@merrickdrivechurch.com
SUMMARY:Bible Classes for All Ages
DESCRIPTION:
URL:https://merrickdrivechurch.com/event/bible-classes-for-all-ages/2028-09-10/
LOCATION:Merrick Drive Church\, 1951 Merrick Drive\, Ardmore\, OK\, 73401\, United States
END:VEVENT
BEGIN:VEVENT
DTSTART;TZID=America/Chicago:20280917T090000
DTEND;TZID=America/Chicago:20280917T100000
DTSTAMP:20260421T184846
CREATED:20250717T221725Z
LAST-MODIFIED:20250717T222621Z
UID:10000166-1852794000-1852797600@merrickdrivechurch.com
SUMMARY:Sunday Worship
DESCRIPTION:
URL:https://merrickdrivechurch.com/event/sunday-worship/2028-09-17/
LOCATION:Merrick Drive Church\, 1951 Merrick Drive\, Ardmore\, OK\, 73401\, United States
END:VEVENT
BEGIN:VEVENT
DTSTART;TZID=America/Chicago:20280917T103000
DTEND;TZID=America/Chicago:20280917T120000
DTSTAMP:20260421T184846
CREATED:20250717T222015Z
LAST-MODIFIED:20250717T222549Z
UID:10000427-1852799400-1852804800@merrickdrivechurch.com
SUMMARY:Bible Classes for All Ages
DESCRIPTION:
URL:https://merrickdrivechurch.com/event/bible-classes-for-all-ages/2028-09-17/
LOCATION:Merrick Drive Church\, 1951 Merrick Drive\, Ardmore\, OK\, 73401\, United States
END:VEVENT
BEGIN:VEVENT
DTSTART;TZID=America/Chicago:20280924T090000
DTEND;TZID=America/Chicago:20280924T100000
DTSTAMP:20260421T184846
CREATED:20250717T221725Z
LAST-MODIFIED:20250717T222621Z
UID:10000167-1853398800-1853402400@merrickdrivechurch.com
SUMMARY:Sunday Worship
DESCRIPTION:
URL:https://merrickdrivechurch.com/event/sunday-worship/2028-09-24/
LOCATION:Merrick Drive Church\, 1951 Merrick Drive\, Ardmore\, OK\, 73401\, United States
END:VEVENT
BEGIN:VEVENT
DTSTART;TZID=America/Chicago:20280924T103000
DTEND;TZID=America/Chicago:20280924T120000
DTSTAMP:20260421T184846
CREATED:20250717T222015Z
LAST-MODIFIED:20250717T222549Z
UID:10000428-1853404200-1853409600@merrickdrivechurch.com
SUMMARY:Bible Classes for All Ages
DESCRIPTION:
URL:https://merrickdrivechurch.com/event/bible-classes-for-all-ages/2028-09-24/
LOCATION:Merrick Drive Church\, 1951 Merrick Drive\, Ardmore\, OK\, 73401\, United States
END:VEVENT
BEGIN:VEVENT
DTSTART;TZID=America/Chicago:20281001T090000
DTEND;TZID=America/Chicago:20281001T100000
DTSTAMP:20260421T184846
CREATED:20250717T221725Z
LAST-MODIFIED:20250717T222621Z
UID:10000168-1854003600-1854007200@merrickdrivechurch.com
SUMMARY:Sunday Worship
DESCRIPTION:
URL:https://merrickdrivechurch.com/event/sunday-worship/2028-10-01/
LOCATION:Merrick Drive Church\, 1951 Merrick Drive\, Ardmore\, OK\, 73401\, United States
END:VEVENT
BEGIN:VEVENT
DTSTART;TZID=America/Chicago:20281001T103000
DTEND;TZID=America/Chicago:20281001T120000
DTSTAMP:20260421T184846
CREATED:20250717T222015Z
LAST-MODIFIED:20250717T222549Z
UID:10000429-1854009000-1854014400@merrickdrivechurch.com
SUMMARY:Bible Classes for All Ages
DESCRIPTION:
URL:https://merrickdrivechurch.com/event/bible-classes-for-all-ages/2028-10-01/
LOCATION:Merrick Drive Church\, 1951 Merrick Drive\, Ardmore\, OK\, 73401\, United States
END:VEVENT
BEGIN:VEVENT
DTSTART;TZID=America/Chicago:20281008T090000
DTEND;TZID=America/Chicago:20281008T100000
DTSTAMP:20260421T184846
CREATED:20250717T221725Z
LAST-MODIFIED:20250717T222621Z
UID:10000169-1854608400-1854612000@merrickdrivechurch.com
SUMMARY:Sunday Worship
DESCRIPTION:
URL:https://merrickdrivechurch.com/event/sunday-worship/2028-10-08/
LOCATION:Merrick Drive Church\, 1951 Merrick Drive\, Ardmore\, OK\, 73401\, United States
END:VEVENT
BEGIN:VEVENT
DTSTART;TZID=America/Chicago:20281008T103000
DTEND;TZID=America/Chicago:20281008T120000
DTSTAMP:20260421T184846
CREATED:20250717T222015Z
LAST-MODIFIED:20250717T222549Z
UID:10000430-1854613800-1854619200@merrickdrivechurch.com
SUMMARY:Bible Classes for All Ages
DESCRIPTION:
URL:https://merrickdrivechurch.com/event/bible-classes-for-all-ages/2028-10-08/
LOCATION:Merrick Drive Church\, 1951 Merrick Drive\, Ardmore\, OK\, 73401\, United States
END:VEVENT
BEGIN:VEVENT
DTSTART;TZID=America/Chicago:20281015T090000
DTEND;TZID=America/Chicago:20281015T100000
DTSTAMP:20260421T184846
CREATED:20250717T221725Z
LAST-MODIFIED:20250717T222621Z
UID:10000170-1855213200-1855216800@merrickdrivechurch.com
SUMMARY:Sunday Worship
DESCRIPTION:
URL:https://merrickdrivechurch.com/event/sunday-worship/2028-10-15/
LOCATION:Merrick Drive Church\, 1951 Merrick Drive\, Ardmore\, OK\, 73401\, United States
END:VEVENT
BEGIN:VEVENT
DTSTART;TZID=America/Chicago:20281015T103000
DTEND;TZID=America/Chicago:20281015T120000
DTSTAMP:20260421T184846
CREATED:20250717T222015Z
LAST-MODIFIED:20250717T222549Z
UID:10000431-1855218600-1855224000@merrickdrivechurch.com
SUMMARY:Bible Classes for All Ages
DESCRIPTION:
URL:https://merrickdrivechurch.com/event/bible-classes-for-all-ages/2028-10-15/
LOCATION:Merrick Drive Church\, 1951 Merrick Drive\, Ardmore\, OK\, 73401\, United States
END:VEVENT
BEGIN:VEVENT
DTSTART;TZID=America/Chicago:20281022T090000
DTEND;TZID=America/Chicago:20281022T100000
DTSTAMP:20260421T184846
CREATED:20250717T221725Z
LAST-MODIFIED:20250717T222621Z
UID:10000171-1855818000-1855821600@merrickdrivechurch.com
SUMMARY:Sunday Worship
DESCRIPTION:
URL:https://merrickdrivechurch.com/event/sunday-worship/2028-10-22/
LOCATION:Merrick Drive Church\, 1951 Merrick Drive\, Ardmore\, OK\, 73401\, United States
END:VEVENT
BEGIN:VEVENT
DTSTART;TZID=America/Chicago:20281022T103000
DTEND;TZID=America/Chicago:20281022T120000
DTSTAMP:20260421T184846
CREATED:20250717T222015Z
LAST-MODIFIED:20250717T222549Z
UID:10000432-1855823400-1855828800@merrickdrivechurch.com
SUMMARY:Bible Classes for All Ages
DESCRIPTION:
URL:https://merrickdrivechurch.com/event/bible-classes-for-all-ages/2028-10-22/
LOCATION:Merrick Drive Church\, 1951 Merrick Drive\, Ardmore\, OK\, 73401\, United States
END:VEVENT
BEGIN:VEVENT
DTSTART;TZID=America/Chicago:20281029T090000
DTEND;TZID=America/Chicago:20281029T100000
DTSTAMP:20260421T184846
CREATED:20250717T221725Z
LAST-MODIFIED:20250717T222621Z
UID:10000172-1856422800-1856426400@merrickdrivechurch.com
SUMMARY:Sunday Worship
DESCRIPTION:
URL:https://merrickdrivechurch.com/event/sunday-worship/2028-10-29/
LOCATION:Merrick Drive Church\, 1951 Merrick Drive\, Ardmore\, OK\, 73401\, United States
END:VEVENT
BEGIN:VEVENT
DTSTART;TZID=America/Chicago:20281029T103000
DTEND;TZID=America/Chicago:20281029T120000
DTSTAMP:20260421T184846
CREATED:20250717T222015Z
LAST-MODIFIED:20250717T222549Z
UID:10000433-1856428200-1856433600@merrickdrivechurch.com
SUMMARY:Bible Classes for All Ages
DESCRIPTION:
URL:https://merrickdrivechurch.com/event/bible-classes-for-all-ages/2028-10-29/
LOCATION:Merrick Drive Church\, 1951 Merrick Drive\, Ardmore\, OK\, 73401\, United States
END:VEVENT
BEGIN:VEVENT
DTSTART;TZID=America/Chicago:20281105T090000
DTEND;TZID=America/Chicago:20281105T100000
DTSTAMP:20260421T184846
CREATED:20250717T221725Z
LAST-MODIFIED:20250717T222621Z
UID:10000173-1857027600-1857031200@merrickdrivechurch.com
SUMMARY:Sunday Worship
DESCRIPTION:
URL:https://merrickdrivechurch.com/event/sunday-worship/2028-11-05/
LOCATION:Merrick Drive Church\, 1951 Merrick Drive\, Ardmore\, OK\, 73401\, United States
END:VEVENT
BEGIN:VEVENT
DTSTART;TZID=America/Chicago:20281105T103000
DTEND;TZID=America/Chicago:20281105T120000
DTSTAMP:20260421T184846
CREATED:20250717T222015Z
LAST-MODIFIED:20250717T222549Z
UID:10000434-1857033000-1857038400@merrickdrivechurch.com
SUMMARY:Bible Classes for All Ages
DESCRIPTION:
URL:https://merrickdrivechurch.com/event/bible-classes-for-all-ages/2028-11-05/
LOCATION:Merrick Drive Church\, 1951 Merrick Drive\, Ardmore\, OK\, 73401\, United States
END:VEVENT
BEGIN:VEVENT
DTSTART;TZID=America/Chicago:20281112T090000
DTEND;TZID=America/Chicago:20281112T100000
DTSTAMP:20260421T184846
CREATED:20250717T221725Z
LAST-MODIFIED:20250717T222621Z
UID:10000174-1857632400-1857636000@merrickdrivechurch.com
SUMMARY:Sunday Worship
DESCRIPTION:
URL:https://merrickdrivechurch.com/event/sunday-worship/2028-11-12/
LOCATION:Merrick Drive Church\, 1951 Merrick Drive\, Ardmore\, OK\, 73401\, United States
END:VEVENT
BEGIN:VEVENT
DTSTART;TZID=America/Chicago:20281112T103000
DTEND;TZID=America/Chicago:20281112T120000
DTSTAMP:20260421T184846
CREATED:20250717T222015Z
LAST-MODIFIED:20250717T222549Z
UID:10000435-1857637800-1857643200@merrickdrivechurch.com
SUMMARY:Bible Classes for All Ages
DESCRIPTION:
URL:https://merrickdrivechurch.com/event/bible-classes-for-all-ages/2028-11-12/
LOCATION:Merrick Drive Church\, 1951 Merrick Drive\, Ardmore\, OK\, 73401\, United States
END:VEVENT
BEGIN:VEVENT
DTSTART;TZID=America/Chicago:20281119T090000
DTEND;TZID=America/Chicago:20281119T100000
DTSTAMP:20260421T184846
CREATED:20250717T221725Z
LAST-MODIFIED:20250717T222621Z
UID:10000175-1858237200-1858240800@merrickdrivechurch.com
SUMMARY:Sunday Worship
DESCRIPTION:
URL:https://merrickdrivechurch.com/event/sunday-worship/2028-11-19/
LOCATION:Merrick Drive Church\, 1951 Merrick Drive\, Ardmore\, OK\, 73401\, United States
END:VEVENT
BEGIN:VEVENT
DTSTART;TZID=America/Chicago:20281119T103000
DTEND;TZID=America/Chicago:20281119T120000
DTSTAMP:20260421T184846
CREATED:20250717T222015Z
LAST-MODIFIED:20250717T222549Z
UID:10000436-1858242600-1858248000@merrickdrivechurch.com
SUMMARY:Bible Classes for All Ages
DESCRIPTION:
URL:https://merrickdrivechurch.com/event/bible-classes-for-all-ages/2028-11-19/
LOCATION:Merrick Drive Church\, 1951 Merrick Drive\, Ardmore\, OK\, 73401\, United States
END:VEVENT
END:VCALENDAR