BEGIN:VCALENDAR
VERSION:2.0
PRODID:-//Merrick Drive Church of Christ - ECPv6.14.1//NONSGML v1.0//EN
CALSCALE:GREGORIAN
METHOD:PUBLISH
X-WR-CALNAME:Merrick Drive Church of Christ
X-ORIGINAL-URL:https://merrickdrivechurch.com
X-WR-CALDESC:Events for Merrick Drive Church of Christ
REFRESH-INTERVAL;VALUE=DURATION:PT1H
X-Robots-Tag:noindex
X-PUBLISHED-TTL:PT1H
BEGIN:VTIMEZONE
TZID:America/Chicago
BEGIN:DAYLIGHT
TZOFFSETFROM:-0600
TZOFFSETTO:-0500
TZNAME:CDT
DTSTART:20280312T080000
END:DAYLIGHT
BEGIN:STANDARD
TZOFFSETFROM:-0500
TZOFFSETTO:-0600
TZNAME:CST
DTSTART:20281105T070000
END:STANDARD
BEGIN:DAYLIGHT
TZOFFSETFROM:-0600
TZOFFSETTO:-0500
TZNAME:CDT
DTSTART:20290311T080000
END:DAYLIGHT
BEGIN:STANDARD
TZOFFSETFROM:-0500
TZOFFSETTO:-0600
TZNAME:CST
DTSTART:20291104T070000
END:STANDARD
END:VTIMEZONE
BEGIN:VEVENT
DTSTART;TZID=America/Chicago:20281217T090000
DTEND;TZID=America/Chicago:20281217T100000
DTSTAMP:20260421T213625
CREATED:20250717T221725Z
LAST-MODIFIED:20250717T222621Z
UID:10000179-1860656400-1860660000@merrickdrivechurch.com
SUMMARY:Sunday Worship
DESCRIPTION:
URL:https://merrickdrivechurch.com/event/sunday-worship/2028-12-17/
LOCATION:Merrick Drive Church\, 1951 Merrick Drive\, Ardmore\, OK\, 73401\, United States
END:VEVENT
BEGIN:VEVENT
DTSTART;TZID=America/Chicago:20281217T103000
DTEND;TZID=America/Chicago:20281217T120000
DTSTAMP:20260421T213625
CREATED:20250717T222015Z
LAST-MODIFIED:20250717T222549Z
UID:10000440-1860661800-1860667200@merrickdrivechurch.com
SUMMARY:Bible Classes for All Ages
DESCRIPTION:
URL:https://merrickdrivechurch.com/event/bible-classes-for-all-ages/2028-12-17/
LOCATION:Merrick Drive Church\, 1951 Merrick Drive\, Ardmore\, OK\, 73401\, United States
END:VEVENT
BEGIN:VEVENT
DTSTART;TZID=America/Chicago:20281224T090000
DTEND;TZID=America/Chicago:20281224T100000
DTSTAMP:20260421T213625
CREATED:20250717T221725Z
LAST-MODIFIED:20250717T222621Z
UID:10000180-1861261200-1861264800@merrickdrivechurch.com
SUMMARY:Sunday Worship
DESCRIPTION:
URL:https://merrickdrivechurch.com/event/sunday-worship/2028-12-24/
LOCATION:Merrick Drive Church\, 1951 Merrick Drive\, Ardmore\, OK\, 73401\, United States
END:VEVENT
BEGIN:VEVENT
DTSTART;TZID=America/Chicago:20281224T103000
DTEND;TZID=America/Chicago:20281224T120000
DTSTAMP:20260421T213625
CREATED:20250717T222015Z
LAST-MODIFIED:20250717T222549Z
UID:10000441-1861266600-1861272000@merrickdrivechurch.com
SUMMARY:Bible Classes for All Ages
DESCRIPTION:
URL:https://merrickdrivechurch.com/event/bible-classes-for-all-ages/2028-12-24/
LOCATION:Merrick Drive Church\, 1951 Merrick Drive\, Ardmore\, OK\, 73401\, United States
END:VEVENT
BEGIN:VEVENT
DTSTART;TZID=America/Chicago:20281231T090000
DTEND;TZID=America/Chicago:20281231T100000
DTSTAMP:20260421T213625
CREATED:20250717T221725Z
LAST-MODIFIED:20250717T222621Z
UID:10000181-1861866000-1861869600@merrickdrivechurch.com
SUMMARY:Sunday Worship
DESCRIPTION:
URL:https://merrickdrivechurch.com/event/sunday-worship/2028-12-31/
LOCATION:Merrick Drive Church\, 1951 Merrick Drive\, Ardmore\, OK\, 73401\, United States
END:VEVENT
BEGIN:VEVENT
DTSTART;TZID=America/Chicago:20281231T103000
DTEND;TZID=America/Chicago:20281231T120000
DTSTAMP:20260421T213625
CREATED:20250717T222015Z
LAST-MODIFIED:20250717T222549Z
UID:10000442-1861871400-1861876800@merrickdrivechurch.com
SUMMARY:Bible Classes for All Ages
DESCRIPTION:
URL:https://merrickdrivechurch.com/event/bible-classes-for-all-ages/2028-12-31/
LOCATION:Merrick Drive Church\, 1951 Merrick Drive\, Ardmore\, OK\, 73401\, United States
END:VEVENT
BEGIN:VEVENT
DTSTART;TZID=America/Chicago:20290107T090000
DTEND;TZID=America/Chicago:20290107T100000
DTSTAMP:20260421T213625
CREATED:20250717T221725Z
LAST-MODIFIED:20250717T222621Z
UID:10000182-1862470800-1862474400@merrickdrivechurch.com
SUMMARY:Sunday Worship
DESCRIPTION:
URL:https://merrickdrivechurch.com/event/sunday-worship/2029-01-07/
LOCATION:Merrick Drive Church\, 1951 Merrick Drive\, Ardmore\, OK\, 73401\, United States
END:VEVENT
BEGIN:VEVENT
DTSTART;TZID=America/Chicago:20290107T103000
DTEND;TZID=America/Chicago:20290107T120000
DTSTAMP:20260421T213625
CREATED:20250717T222015Z
LAST-MODIFIED:20250717T222549Z
UID:10000443-1862476200-1862481600@merrickdrivechurch.com
SUMMARY:Bible Classes for All Ages
DESCRIPTION:
URL:https://merrickdrivechurch.com/event/bible-classes-for-all-ages/2029-01-07/
LOCATION:Merrick Drive Church\, 1951 Merrick Drive\, Ardmore\, OK\, 73401\, United States
END:VEVENT
BEGIN:VEVENT
DTSTART;TZID=America/Chicago:20290114T090000
DTEND;TZID=America/Chicago:20290114T100000
DTSTAMP:20260421T213625
CREATED:20250717T221725Z
LAST-MODIFIED:20250717T222621Z
UID:10000183-1863075600-1863079200@merrickdrivechurch.com
SUMMARY:Sunday Worship
DESCRIPTION:
URL:https://merrickdrivechurch.com/event/sunday-worship/2029-01-14/
LOCATION:Merrick Drive Church\, 1951 Merrick Drive\, Ardmore\, OK\, 73401\, United States
END:VEVENT
BEGIN:VEVENT
DTSTART;TZID=America/Chicago:20290114T103000
DTEND;TZID=America/Chicago:20290114T120000
DTSTAMP:20260421T213625
CREATED:20250717T222015Z
LAST-MODIFIED:20250717T222549Z
UID:10000444-1863081000-1863086400@merrickdrivechurch.com
SUMMARY:Bible Classes for All Ages
DESCRIPTION:
URL:https://merrickdrivechurch.com/event/bible-classes-for-all-ages/2029-01-14/
LOCATION:Merrick Drive Church\, 1951 Merrick Drive\, Ardmore\, OK\, 73401\, United States
END:VEVENT
BEGIN:VEVENT
DTSTART;TZID=America/Chicago:20290121T090000
DTEND;TZID=America/Chicago:20290121T100000
DTSTAMP:20260421T213625
CREATED:20250717T221725Z
LAST-MODIFIED:20250717T222621Z
UID:10000184-1863680400-1863684000@merrickdrivechurch.com
SUMMARY:Sunday Worship
DESCRIPTION:
URL:https://merrickdrivechurch.com/event/sunday-worship/2029-01-21/
LOCATION:Merrick Drive Church\, 1951 Merrick Drive\, Ardmore\, OK\, 73401\, United States
END:VEVENT
BEGIN:VEVENT
DTSTART;TZID=America/Chicago:20290121T103000
DTEND;TZID=America/Chicago:20290121T120000
DTSTAMP:20260421T213625
CREATED:20250717T222015Z
LAST-MODIFIED:20250717T222549Z
UID:10000445-1863685800-1863691200@merrickdrivechurch.com
SUMMARY:Bible Classes for All Ages
DESCRIPTION:
URL:https://merrickdrivechurch.com/event/bible-classes-for-all-ages/2029-01-21/
LOCATION:Merrick Drive Church\, 1951 Merrick Drive\, Ardmore\, OK\, 73401\, United States
END:VEVENT
BEGIN:VEVENT
DTSTART;TZID=America/Chicago:20290128T090000
DTEND;TZID=America/Chicago:20290128T100000
DTSTAMP:20260421T213625
CREATED:20250717T221725Z
LAST-MODIFIED:20250717T222621Z
UID:10000185-1864285200-1864288800@merrickdrivechurch.com
SUMMARY:Sunday Worship
DESCRIPTION:
URL:https://merrickdrivechurch.com/event/sunday-worship/2029-01-28/
LOCATION:Merrick Drive Church\, 1951 Merrick Drive\, Ardmore\, OK\, 73401\, United States
END:VEVENT
BEGIN:VEVENT
DTSTART;TZID=America/Chicago:20290128T103000
DTEND;TZID=America/Chicago:20290128T120000
DTSTAMP:20260421T213625
CREATED:20250717T222015Z
LAST-MODIFIED:20250717T222549Z
UID:10000446-1864290600-1864296000@merrickdrivechurch.com
SUMMARY:Bible Classes for All Ages
DESCRIPTION:
URL:https://merrickdrivechurch.com/event/bible-classes-for-all-ages/2029-01-28/
LOCATION:Merrick Drive Church\, 1951 Merrick Drive\, Ardmore\, OK\, 73401\, United States
END:VEVENT
BEGIN:VEVENT
DTSTART;TZID=America/Chicago:20290204T090000
DTEND;TZID=America/Chicago:20290204T100000
DTSTAMP:20260421T213625
CREATED:20250717T221725Z
LAST-MODIFIED:20250717T222621Z
UID:10000186-1864890000-1864893600@merrickdrivechurch.com
SUMMARY:Sunday Worship
DESCRIPTION:
URL:https://merrickdrivechurch.com/event/sunday-worship/2029-02-04/
LOCATION:Merrick Drive Church\, 1951 Merrick Drive\, Ardmore\, OK\, 73401\, United States
END:VEVENT
BEGIN:VEVENT
DTSTART;TZID=America/Chicago:20290204T103000
DTEND;TZID=America/Chicago:20290204T120000
DTSTAMP:20260421T213625
CREATED:20250717T222015Z
LAST-MODIFIED:20250717T222549Z
UID:10000447-1864895400-1864900800@merrickdrivechurch.com
SUMMARY:Bible Classes for All Ages
DESCRIPTION:
URL:https://merrickdrivechurch.com/event/bible-classes-for-all-ages/2029-02-04/
LOCATION:Merrick Drive Church\, 1951 Merrick Drive\, Ardmore\, OK\, 73401\, United States
END:VEVENT
BEGIN:VEVENT
DTSTART;TZID=America/Chicago:20290211T090000
DTEND;TZID=America/Chicago:20290211T100000
DTSTAMP:20260421T213625
CREATED:20250717T221725Z
LAST-MODIFIED:20250717T222621Z
UID:10000187-1865494800-1865498400@merrickdrivechurch.com
SUMMARY:Sunday Worship
DESCRIPTION:
URL:https://merrickdrivechurch.com/event/sunday-worship/2029-02-11/
LOCATION:Merrick Drive Church\, 1951 Merrick Drive\, Ardmore\, OK\, 73401\, United States
END:VEVENT
BEGIN:VEVENT
DTSTART;TZID=America/Chicago:20290211T103000
DTEND;TZID=America/Chicago:20290211T120000
DTSTAMP:20260421T213625
CREATED:20250717T222015Z
LAST-MODIFIED:20250717T222549Z
UID:10000448-1865500200-1865505600@merrickdrivechurch.com
SUMMARY:Bible Classes for All Ages
DESCRIPTION:
URL:https://merrickdrivechurch.com/event/bible-classes-for-all-ages/2029-02-11/
LOCATION:Merrick Drive Church\, 1951 Merrick Drive\, Ardmore\, OK\, 73401\, United States
END:VEVENT
BEGIN:VEVENT
DTSTART;TZID=America/Chicago:20290218T090000
DTEND;TZID=America/Chicago:20290218T100000
DTSTAMP:20260421T213625
CREATED:20250717T221725Z
LAST-MODIFIED:20250717T222621Z
UID:10000188-1866099600-1866103200@merrickdrivechurch.com
SUMMARY:Sunday Worship
DESCRIPTION:
URL:https://merrickdrivechurch.com/event/sunday-worship/2029-02-18/
LOCATION:Merrick Drive Church\, 1951 Merrick Drive\, Ardmore\, OK\, 73401\, United States
END:VEVENT
BEGIN:VEVENT
DTSTART;TZID=America/Chicago:20290218T103000
DTEND;TZID=America/Chicago:20290218T120000
DTSTAMP:20260421T213625
CREATED:20250717T222015Z
LAST-MODIFIED:20250717T222549Z
UID:10000449-1866105000-1866110400@merrickdrivechurch.com
SUMMARY:Bible Classes for All Ages
DESCRIPTION:
URL:https://merrickdrivechurch.com/event/bible-classes-for-all-ages/2029-02-18/
LOCATION:Merrick Drive Church\, 1951 Merrick Drive\, Ardmore\, OK\, 73401\, United States
END:VEVENT
BEGIN:VEVENT
DTSTART;TZID=America/Chicago:20290225T090000
DTEND;TZID=America/Chicago:20290225T100000
DTSTAMP:20260421T213625
CREATED:20250717T221725Z
LAST-MODIFIED:20250717T222621Z
UID:10000189-1866704400-1866708000@merrickdrivechurch.com
SUMMARY:Sunday Worship
DESCRIPTION:
URL:https://merrickdrivechurch.com/event/sunday-worship/2029-02-25/
LOCATION:Merrick Drive Church\, 1951 Merrick Drive\, Ardmore\, OK\, 73401\, United States
END:VEVENT
BEGIN:VEVENT
DTSTART;TZID=America/Chicago:20290225T103000
DTEND;TZID=America/Chicago:20290225T120000
DTSTAMP:20260421T213625
CREATED:20250717T222015Z
LAST-MODIFIED:20250717T222549Z
UID:10000450-1866709800-1866715200@merrickdrivechurch.com
SUMMARY:Bible Classes for All Ages
DESCRIPTION:
URL:https://merrickdrivechurch.com/event/bible-classes-for-all-ages/2029-02-25/
LOCATION:Merrick Drive Church\, 1951 Merrick Drive\, Ardmore\, OK\, 73401\, United States
END:VEVENT
BEGIN:VEVENT
DTSTART;TZID=America/Chicago:20290304T090000
DTEND;TZID=America/Chicago:20290304T100000
DTSTAMP:20260421T213625
CREATED:20250717T221725Z
LAST-MODIFIED:20250717T222621Z
UID:10000190-1867309200-1867312800@merrickdrivechurch.com
SUMMARY:Sunday Worship
DESCRIPTION:
URL:https://merrickdrivechurch.com/event/sunday-worship/2029-03-04/
LOCATION:Merrick Drive Church\, 1951 Merrick Drive\, Ardmore\, OK\, 73401\, United States
END:VEVENT
BEGIN:VEVENT
DTSTART;TZID=America/Chicago:20290304T103000
DTEND;TZID=America/Chicago:20290304T120000
DTSTAMP:20260421T213625
CREATED:20250717T222015Z
LAST-MODIFIED:20250717T222549Z
UID:10000451-1867314600-1867320000@merrickdrivechurch.com
SUMMARY:Bible Classes for All Ages
DESCRIPTION:
URL:https://merrickdrivechurch.com/event/bible-classes-for-all-ages/2029-03-04/
LOCATION:Merrick Drive Church\, 1951 Merrick Drive\, Ardmore\, OK\, 73401\, United States
END:VEVENT
BEGIN:VEVENT
DTSTART;TZID=America/Chicago:20290311T090000
DTEND;TZID=America/Chicago:20290311T100000
DTSTAMP:20260421T213625
CREATED:20250717T221725Z
LAST-MODIFIED:20250717T222621Z
UID:10000191-1867914000-1867917600@merrickdrivechurch.com
SUMMARY:Sunday Worship
DESCRIPTION:
URL:https://merrickdrivechurch.com/event/sunday-worship/2029-03-11/
LOCATION:Merrick Drive Church\, 1951 Merrick Drive\, Ardmore\, OK\, 73401\, United States
END:VEVENT
BEGIN:VEVENT
DTSTART;TZID=America/Chicago:20290311T103000
DTEND;TZID=America/Chicago:20290311T120000
DTSTAMP:20260421T213625
CREATED:20250717T222015Z
LAST-MODIFIED:20250717T222549Z
UID:10000452-1867919400-1867924800@merrickdrivechurch.com
SUMMARY:Bible Classes for All Ages
DESCRIPTION:
URL:https://merrickdrivechurch.com/event/bible-classes-for-all-ages/2029-03-11/
LOCATION:Merrick Drive Church\, 1951 Merrick Drive\, Ardmore\, OK\, 73401\, United States
END:VEVENT
BEGIN:VEVENT
DTSTART;TZID=America/Chicago:20290318T090000
DTEND;TZID=America/Chicago:20290318T100000
DTSTAMP:20260421T213625
CREATED:20250717T221725Z
LAST-MODIFIED:20250717T222621Z
UID:10000192-1868518800-1868522400@merrickdrivechurch.com
SUMMARY:Sunday Worship
DESCRIPTION:
URL:https://merrickdrivechurch.com/event/sunday-worship/2029-03-18/
LOCATION:Merrick Drive Church\, 1951 Merrick Drive\, Ardmore\, OK\, 73401\, United States
END:VEVENT
BEGIN:VEVENT
DTSTART;TZID=America/Chicago:20290318T103000
DTEND;TZID=America/Chicago:20290318T120000
DTSTAMP:20260421T213625
CREATED:20250717T222015Z
LAST-MODIFIED:20250717T222549Z
UID:10000453-1868524200-1868529600@merrickdrivechurch.com
SUMMARY:Bible Classes for All Ages
DESCRIPTION:
URL:https://merrickdrivechurch.com/event/bible-classes-for-all-ages/2029-03-18/
LOCATION:Merrick Drive Church\, 1951 Merrick Drive\, Ardmore\, OK\, 73401\, United States
END:VEVENT
BEGIN:VEVENT
DTSTART;TZID=America/Chicago:20290325T090000
DTEND;TZID=America/Chicago:20290325T100000
DTSTAMP:20260421T213625
CREATED:20250717T221725Z
LAST-MODIFIED:20250717T222621Z
UID:10000193-1869123600-1869127200@merrickdrivechurch.com
SUMMARY:Sunday Worship
DESCRIPTION:
URL:https://merrickdrivechurch.com/event/sunday-worship/2029-03-25/
LOCATION:Merrick Drive Church\, 1951 Merrick Drive\, Ardmore\, OK\, 73401\, United States
END:VEVENT
BEGIN:VEVENT
DTSTART;TZID=America/Chicago:20290325T103000
DTEND;TZID=America/Chicago:20290325T120000
DTSTAMP:20260421T213625
CREATED:20250717T222015Z
LAST-MODIFIED:20250717T222549Z
UID:10000454-1869129000-1869134400@merrickdrivechurch.com
SUMMARY:Bible Classes for All Ages
DESCRIPTION:
URL:https://merrickdrivechurch.com/event/bible-classes-for-all-ages/2029-03-25/
LOCATION:Merrick Drive Church\, 1951 Merrick Drive\, Ardmore\, OK\, 73401\, United States
END:VEVENT
END:VCALENDAR