BEGIN:VCALENDAR
VERSION:2.0
PRODID:-//Merrick Drive Church of Christ - ECPv6.14.1//NONSGML v1.0//EN
CALSCALE:GREGORIAN
METHOD:PUBLISH
X-ORIGINAL-URL:https://merrickdrivechurch.com
X-WR-CALDESC:Events for Merrick Drive Church of Christ
REFRESH-INTERVAL;VALUE=DURATION:PT1H
X-Robots-Tag:noindex
X-PUBLISHED-TTL:PT1H
BEGIN:VTIMEZONE
TZID:America/Chicago
BEGIN:DAYLIGHT
TZOFFSETFROM:-0600
TZOFFSETTO:-0500
TZNAME:CDT
DTSTART:20270314T080000
END:DAYLIGHT
BEGIN:STANDARD
TZOFFSETFROM:-0500
TZOFFSETTO:-0600
TZNAME:CST
DTSTART:20271107T070000
END:STANDARD
BEGIN:DAYLIGHT
TZOFFSETFROM:-0600
TZOFFSETTO:-0500
TZNAME:CDT
DTSTART:20280312T080000
END:DAYLIGHT
BEGIN:STANDARD
TZOFFSETFROM:-0500
TZOFFSETTO:-0600
TZNAME:CST
DTSTART:20281105T070000
END:STANDARD
END:VTIMEZONE
BEGIN:VEVENT
DTSTART;TZID=America/Chicago:20271205T090000
DTEND;TZID=America/Chicago:20271205T100000
DTSTAMP:20260421T101055
CREATED:20250717T221725Z
LAST-MODIFIED:20250717T222621Z
UID:10000125-1827997200-1828000800@merrickdrivechurch.com
SUMMARY:Sunday Worship
DESCRIPTION:
URL:https://merrickdrivechurch.com/event/sunday-worship/2027-12-05/
LOCATION:Merrick Drive Church\, 1951 Merrick Drive\, Ardmore\, OK\, 73401\, United States
END:VEVENT
BEGIN:VEVENT
DTSTART;TZID=America/Chicago:20271205T103000
DTEND;TZID=America/Chicago:20271205T120000
DTSTAMP:20260421T101055
CREATED:20250717T222015Z
LAST-MODIFIED:20250717T222549Z
UID:10000386-1828002600-1828008000@merrickdrivechurch.com
SUMMARY:Bible Classes for All Ages
DESCRIPTION:
URL:https://merrickdrivechurch.com/event/bible-classes-for-all-ages/2027-12-05/
LOCATION:Merrick Drive Church\, 1951 Merrick Drive\, Ardmore\, OK\, 73401\, United States
END:VEVENT
BEGIN:VEVENT
DTSTART;TZID=America/Chicago:20271212T090000
DTEND;TZID=America/Chicago:20271212T100000
DTSTAMP:20260421T101055
CREATED:20250717T221725Z
LAST-MODIFIED:20250717T222621Z
UID:10000126-1828602000-1828605600@merrickdrivechurch.com
SUMMARY:Sunday Worship
DESCRIPTION:
URL:https://merrickdrivechurch.com/event/sunday-worship/2027-12-12/
LOCATION:Merrick Drive Church\, 1951 Merrick Drive\, Ardmore\, OK\, 73401\, United States
END:VEVENT
BEGIN:VEVENT
DTSTART;TZID=America/Chicago:20271212T103000
DTEND;TZID=America/Chicago:20271212T120000
DTSTAMP:20260421T101055
CREATED:20250717T222015Z
LAST-MODIFIED:20250717T222549Z
UID:10000387-1828607400-1828612800@merrickdrivechurch.com
SUMMARY:Bible Classes for All Ages
DESCRIPTION:
URL:https://merrickdrivechurch.com/event/bible-classes-for-all-ages/2027-12-12/
LOCATION:Merrick Drive Church\, 1951 Merrick Drive\, Ardmore\, OK\, 73401\, United States
END:VEVENT
BEGIN:VEVENT
DTSTART;TZID=America/Chicago:20271219T090000
DTEND;TZID=America/Chicago:20271219T100000
DTSTAMP:20260421T101055
CREATED:20250717T221725Z
LAST-MODIFIED:20250717T222621Z
UID:10000127-1829206800-1829210400@merrickdrivechurch.com
SUMMARY:Sunday Worship
DESCRIPTION:
URL:https://merrickdrivechurch.com/event/sunday-worship/2027-12-19/
LOCATION:Merrick Drive Church\, 1951 Merrick Drive\, Ardmore\, OK\, 73401\, United States
END:VEVENT
BEGIN:VEVENT
DTSTART;TZID=America/Chicago:20271219T103000
DTEND;TZID=America/Chicago:20271219T120000
DTSTAMP:20260421T101055
CREATED:20250717T222015Z
LAST-MODIFIED:20250717T222549Z
UID:10000388-1829212200-1829217600@merrickdrivechurch.com
SUMMARY:Bible Classes for All Ages
DESCRIPTION:
URL:https://merrickdrivechurch.com/event/bible-classes-for-all-ages/2027-12-19/
LOCATION:Merrick Drive Church\, 1951 Merrick Drive\, Ardmore\, OK\, 73401\, United States
END:VEVENT
BEGIN:VEVENT
DTSTART;TZID=America/Chicago:20271226T090000
DTEND;TZID=America/Chicago:20271226T100000
DTSTAMP:20260421T101055
CREATED:20250717T221725Z
LAST-MODIFIED:20250717T222621Z
UID:10000128-1829811600-1829815200@merrickdrivechurch.com
SUMMARY:Sunday Worship
DESCRIPTION:
URL:https://merrickdrivechurch.com/event/sunday-worship/2027-12-26/
LOCATION:Merrick Drive Church\, 1951 Merrick Drive\, Ardmore\, OK\, 73401\, United States
END:VEVENT
BEGIN:VEVENT
DTSTART;TZID=America/Chicago:20271226T103000
DTEND;TZID=America/Chicago:20271226T120000
DTSTAMP:20260421T101055
CREATED:20250717T222015Z
LAST-MODIFIED:20250717T222549Z
UID:10000389-1829817000-1829822400@merrickdrivechurch.com
SUMMARY:Bible Classes for All Ages
DESCRIPTION:
URL:https://merrickdrivechurch.com/event/bible-classes-for-all-ages/2027-12-26/
LOCATION:Merrick Drive Church\, 1951 Merrick Drive\, Ardmore\, OK\, 73401\, United States
END:VEVENT
BEGIN:VEVENT
DTSTART;TZID=America/Chicago:20280102T090000
DTEND;TZID=America/Chicago:20280102T100000
DTSTAMP:20260421T101055
CREATED:20250717T221725Z
LAST-MODIFIED:20250717T222621Z
UID:10000129-1830416400-1830420000@merrickdrivechurch.com
SUMMARY:Sunday Worship
DESCRIPTION:
URL:https://merrickdrivechurch.com/event/sunday-worship/2028-01-02/
LOCATION:Merrick Drive Church\, 1951 Merrick Drive\, Ardmore\, OK\, 73401\, United States
END:VEVENT
BEGIN:VEVENT
DTSTART;TZID=America/Chicago:20280102T103000
DTEND;TZID=America/Chicago:20280102T120000
DTSTAMP:20260421T101055
CREATED:20250717T222015Z
LAST-MODIFIED:20250717T222549Z
UID:10000390-1830421800-1830427200@merrickdrivechurch.com
SUMMARY:Bible Classes for All Ages
DESCRIPTION:
URL:https://merrickdrivechurch.com/event/bible-classes-for-all-ages/2028-01-02/
LOCATION:Merrick Drive Church\, 1951 Merrick Drive\, Ardmore\, OK\, 73401\, United States
END:VEVENT
BEGIN:VEVENT
DTSTART;TZID=America/Chicago:20280109T090000
DTEND;TZID=America/Chicago:20280109T100000
DTSTAMP:20260421T101055
CREATED:20250717T221725Z
LAST-MODIFIED:20250717T222621Z
UID:10000130-1831021200-1831024800@merrickdrivechurch.com
SUMMARY:Sunday Worship
DESCRIPTION:
URL:https://merrickdrivechurch.com/event/sunday-worship/2028-01-09/
LOCATION:Merrick Drive Church\, 1951 Merrick Drive\, Ardmore\, OK\, 73401\, United States
END:VEVENT
BEGIN:VEVENT
DTSTART;TZID=America/Chicago:20280109T103000
DTEND;TZID=America/Chicago:20280109T120000
DTSTAMP:20260421T101055
CREATED:20250717T222015Z
LAST-MODIFIED:20250717T222549Z
UID:10000391-1831026600-1831032000@merrickdrivechurch.com
SUMMARY:Bible Classes for All Ages
DESCRIPTION:
URL:https://merrickdrivechurch.com/event/bible-classes-for-all-ages/2028-01-09/
LOCATION:Merrick Drive Church\, 1951 Merrick Drive\, Ardmore\, OK\, 73401\, United States
END:VEVENT
BEGIN:VEVENT
DTSTART;TZID=America/Chicago:20280116T090000
DTEND;TZID=America/Chicago:20280116T100000
DTSTAMP:20260421T101055
CREATED:20250717T221725Z
LAST-MODIFIED:20250717T222621Z
UID:10000131-1831626000-1831629600@merrickdrivechurch.com
SUMMARY:Sunday Worship
DESCRIPTION:
URL:https://merrickdrivechurch.com/event/sunday-worship/2028-01-16/
LOCATION:Merrick Drive Church\, 1951 Merrick Drive\, Ardmore\, OK\, 73401\, United States
END:VEVENT
BEGIN:VEVENT
DTSTART;TZID=America/Chicago:20280116T103000
DTEND;TZID=America/Chicago:20280116T120000
DTSTAMP:20260421T101055
CREATED:20250717T222015Z
LAST-MODIFIED:20250717T222549Z
UID:10000392-1831631400-1831636800@merrickdrivechurch.com
SUMMARY:Bible Classes for All Ages
DESCRIPTION:
URL:https://merrickdrivechurch.com/event/bible-classes-for-all-ages/2028-01-16/
LOCATION:Merrick Drive Church\, 1951 Merrick Drive\, Ardmore\, OK\, 73401\, United States
END:VEVENT
BEGIN:VEVENT
DTSTART;TZID=America/Chicago:20280123T090000
DTEND;TZID=America/Chicago:20280123T100000
DTSTAMP:20260421T101055
CREATED:20250717T221725Z
LAST-MODIFIED:20250717T222621Z
UID:10000132-1832230800-1832234400@merrickdrivechurch.com
SUMMARY:Sunday Worship
DESCRIPTION:
URL:https://merrickdrivechurch.com/event/sunday-worship/2028-01-23/
LOCATION:Merrick Drive Church\, 1951 Merrick Drive\, Ardmore\, OK\, 73401\, United States
END:VEVENT
BEGIN:VEVENT
DTSTART;TZID=America/Chicago:20280123T103000
DTEND;TZID=America/Chicago:20280123T120000
DTSTAMP:20260421T101055
CREATED:20250717T222015Z
LAST-MODIFIED:20250717T222549Z
UID:10000393-1832236200-1832241600@merrickdrivechurch.com
SUMMARY:Bible Classes for All Ages
DESCRIPTION:
URL:https://merrickdrivechurch.com/event/bible-classes-for-all-ages/2028-01-23/
LOCATION:Merrick Drive Church\, 1951 Merrick Drive\, Ardmore\, OK\, 73401\, United States
END:VEVENT
BEGIN:VEVENT
DTSTART;TZID=America/Chicago:20280130T090000
DTEND;TZID=America/Chicago:20280130T100000
DTSTAMP:20260421T101055
CREATED:20250717T221725Z
LAST-MODIFIED:20250717T222621Z
UID:10000133-1832835600-1832839200@merrickdrivechurch.com
SUMMARY:Sunday Worship
DESCRIPTION:
URL:https://merrickdrivechurch.com/event/sunday-worship/2028-01-30/
LOCATION:Merrick Drive Church\, 1951 Merrick Drive\, Ardmore\, OK\, 73401\, United States
END:VEVENT
BEGIN:VEVENT
DTSTART;TZID=America/Chicago:20280130T103000
DTEND;TZID=America/Chicago:20280130T120000
DTSTAMP:20260421T101055
CREATED:20250717T222015Z
LAST-MODIFIED:20250717T222549Z
UID:10000394-1832841000-1832846400@merrickdrivechurch.com
SUMMARY:Bible Classes for All Ages
DESCRIPTION:
URL:https://merrickdrivechurch.com/event/bible-classes-for-all-ages/2028-01-30/
LOCATION:Merrick Drive Church\, 1951 Merrick Drive\, Ardmore\, OK\, 73401\, United States
END:VEVENT
BEGIN:VEVENT
DTSTART;TZID=America/Chicago:20280206T090000
DTEND;TZID=America/Chicago:20280206T100000
DTSTAMP:20260421T101055
CREATED:20250717T221725Z
LAST-MODIFIED:20250717T222621Z
UID:10000134-1833440400-1833444000@merrickdrivechurch.com
SUMMARY:Sunday Worship
DESCRIPTION:
URL:https://merrickdrivechurch.com/event/sunday-worship/2028-02-06/
LOCATION:Merrick Drive Church\, 1951 Merrick Drive\, Ardmore\, OK\, 73401\, United States
END:VEVENT
BEGIN:VEVENT
DTSTART;TZID=America/Chicago:20280206T103000
DTEND;TZID=America/Chicago:20280206T120000
DTSTAMP:20260421T101055
CREATED:20250717T222015Z
LAST-MODIFIED:20250717T222549Z
UID:10000395-1833445800-1833451200@merrickdrivechurch.com
SUMMARY:Bible Classes for All Ages
DESCRIPTION:
URL:https://merrickdrivechurch.com/event/bible-classes-for-all-ages/2028-02-06/
LOCATION:Merrick Drive Church\, 1951 Merrick Drive\, Ardmore\, OK\, 73401\, United States
END:VEVENT
BEGIN:VEVENT
DTSTART;TZID=America/Chicago:20280213T090000
DTEND;TZID=America/Chicago:20280213T100000
DTSTAMP:20260421T101055
CREATED:20250717T221725Z
LAST-MODIFIED:20250717T222621Z
UID:10000135-1834045200-1834048800@merrickdrivechurch.com
SUMMARY:Sunday Worship
DESCRIPTION:
URL:https://merrickdrivechurch.com/event/sunday-worship/2028-02-13/
LOCATION:Merrick Drive Church\, 1951 Merrick Drive\, Ardmore\, OK\, 73401\, United States
END:VEVENT
BEGIN:VEVENT
DTSTART;TZID=America/Chicago:20280213T103000
DTEND;TZID=America/Chicago:20280213T120000
DTSTAMP:20260421T101055
CREATED:20250717T222015Z
LAST-MODIFIED:20250717T222549Z
UID:10000396-1834050600-1834056000@merrickdrivechurch.com
SUMMARY:Bible Classes for All Ages
DESCRIPTION:
URL:https://merrickdrivechurch.com/event/bible-classes-for-all-ages/2028-02-13/
LOCATION:Merrick Drive Church\, 1951 Merrick Drive\, Ardmore\, OK\, 73401\, United States
END:VEVENT
BEGIN:VEVENT
DTSTART;TZID=America/Chicago:20280220T090000
DTEND;TZID=America/Chicago:20280220T100000
DTSTAMP:20260421T101055
CREATED:20250717T221725Z
LAST-MODIFIED:20250717T222621Z
UID:10000136-1834650000-1834653600@merrickdrivechurch.com
SUMMARY:Sunday Worship
DESCRIPTION:
URL:https://merrickdrivechurch.com/event/sunday-worship/2028-02-20/
LOCATION:Merrick Drive Church\, 1951 Merrick Drive\, Ardmore\, OK\, 73401\, United States
END:VEVENT
BEGIN:VEVENT
DTSTART;TZID=America/Chicago:20280220T103000
DTEND;TZID=America/Chicago:20280220T120000
DTSTAMP:20260421T101055
CREATED:20250717T222015Z
LAST-MODIFIED:20250717T222549Z
UID:10000397-1834655400-1834660800@merrickdrivechurch.com
SUMMARY:Bible Classes for All Ages
DESCRIPTION:
URL:https://merrickdrivechurch.com/event/bible-classes-for-all-ages/2028-02-20/
LOCATION:Merrick Drive Church\, 1951 Merrick Drive\, Ardmore\, OK\, 73401\, United States
END:VEVENT
BEGIN:VEVENT
DTSTART;TZID=America/Chicago:20280227T090000
DTEND;TZID=America/Chicago:20280227T100000
DTSTAMP:20260421T101055
CREATED:20250717T221725Z
LAST-MODIFIED:20250717T222621Z
UID:10000137-1835254800-1835258400@merrickdrivechurch.com
SUMMARY:Sunday Worship
DESCRIPTION:
URL:https://merrickdrivechurch.com/event/sunday-worship/2028-02-27/
LOCATION:Merrick Drive Church\, 1951 Merrick Drive\, Ardmore\, OK\, 73401\, United States
END:VEVENT
BEGIN:VEVENT
DTSTART;TZID=America/Chicago:20280227T103000
DTEND;TZID=America/Chicago:20280227T120000
DTSTAMP:20260421T101055
CREATED:20250717T222015Z
LAST-MODIFIED:20250717T222549Z
UID:10000398-1835260200-1835265600@merrickdrivechurch.com
SUMMARY:Bible Classes for All Ages
DESCRIPTION:
URL:https://merrickdrivechurch.com/event/bible-classes-for-all-ages/2028-02-27/
LOCATION:Merrick Drive Church\, 1951 Merrick Drive\, Ardmore\, OK\, 73401\, United States
END:VEVENT
BEGIN:VEVENT
DTSTART;TZID=America/Chicago:20280305T090000
DTEND;TZID=America/Chicago:20280305T100000
DTSTAMP:20260421T101055
CREATED:20250717T221725Z
LAST-MODIFIED:20250717T222621Z
UID:10000138-1835859600-1835863200@merrickdrivechurch.com
SUMMARY:Sunday Worship
DESCRIPTION:
URL:https://merrickdrivechurch.com/event/sunday-worship/2028-03-05/
LOCATION:Merrick Drive Church\, 1951 Merrick Drive\, Ardmore\, OK\, 73401\, United States
END:VEVENT
BEGIN:VEVENT
DTSTART;TZID=America/Chicago:20280305T103000
DTEND;TZID=America/Chicago:20280305T120000
DTSTAMP:20260421T101055
CREATED:20250717T222015Z
LAST-MODIFIED:20250717T222549Z
UID:10000399-1835865000-1835870400@merrickdrivechurch.com
SUMMARY:Bible Classes for All Ages
DESCRIPTION:
URL:https://merrickdrivechurch.com/event/bible-classes-for-all-ages/2028-03-05/
LOCATION:Merrick Drive Church\, 1951 Merrick Drive\, Ardmore\, OK\, 73401\, United States
END:VEVENT
BEGIN:VEVENT
DTSTART;TZID=America/Chicago:20280312T090000
DTEND;TZID=America/Chicago:20280312T100000
DTSTAMP:20260421T101055
CREATED:20250717T221725Z
LAST-MODIFIED:20250717T222621Z
UID:10000139-1836464400-1836468000@merrickdrivechurch.com
SUMMARY:Sunday Worship
DESCRIPTION:
URL:https://merrickdrivechurch.com/event/sunday-worship/2028-03-12/
LOCATION:Merrick Drive Church\, 1951 Merrick Drive\, Ardmore\, OK\, 73401\, United States
END:VEVENT
BEGIN:VEVENT
DTSTART;TZID=America/Chicago:20280312T103000
DTEND;TZID=America/Chicago:20280312T120000
DTSTAMP:20260421T101055
CREATED:20250717T222015Z
LAST-MODIFIED:20250717T222549Z
UID:10000400-1836469800-1836475200@merrickdrivechurch.com
SUMMARY:Bible Classes for All Ages
DESCRIPTION:
URL:https://merrickdrivechurch.com/event/bible-classes-for-all-ages/2028-03-12/
LOCATION:Merrick Drive Church\, 1951 Merrick Drive\, Ardmore\, OK\, 73401\, United States
END:VEVENT
END:VCALENDAR