BEGIN:VCALENDAR
VERSION:2.0
PRODID:-//Merrick Drive Church of Christ - ECPv6.14.1//NONSGML v1.0//EN
CALSCALE:GREGORIAN
METHOD:PUBLISH
X-ORIGINAL-URL:https://merrickdrivechurch.com
X-WR-CALDESC:Events for Merrick Drive Church of Christ
REFRESH-INTERVAL;VALUE=DURATION:PT1H
X-Robots-Tag:noindex
X-PUBLISHED-TTL:PT1H
BEGIN:VTIMEZONE
TZID:America/Chicago
BEGIN:DAYLIGHT
TZOFFSETFROM:-0600
TZOFFSETTO:-0500
TZNAME:CDT
DTSTART:20280312T080000
END:DAYLIGHT
BEGIN:STANDARD
TZOFFSETFROM:-0500
TZOFFSETTO:-0600
TZNAME:CST
DTSTART:20281105T070000
END:STANDARD
END:VTIMEZONE
BEGIN:VEVENT
DTSTART;TZID=America/Chicago:20280227T090000
DTEND;TZID=America/Chicago:20280227T100000
DTSTAMP:20260421T124734
CREATED:20250717T221725Z
LAST-MODIFIED:20250717T222621Z
UID:10000137-1835254800-1835258400@merrickdrivechurch.com
SUMMARY:Sunday Worship
DESCRIPTION:
URL:https://merrickdrivechurch.com/event/sunday-worship/2028-02-27/
LOCATION:Merrick Drive Church\, 1951 Merrick Drive\, Ardmore\, OK\, 73401\, United States
END:VEVENT
BEGIN:VEVENT
DTSTART;TZID=America/Chicago:20280227T103000
DTEND;TZID=America/Chicago:20280227T120000
DTSTAMP:20260421T124734
CREATED:20250717T222015Z
LAST-MODIFIED:20250717T222549Z
UID:10000398-1835260200-1835265600@merrickdrivechurch.com
SUMMARY:Bible Classes for All Ages
DESCRIPTION:
URL:https://merrickdrivechurch.com/event/bible-classes-for-all-ages/2028-02-27/
LOCATION:Merrick Drive Church\, 1951 Merrick Drive\, Ardmore\, OK\, 73401\, United States
END:VEVENT
BEGIN:VEVENT
DTSTART;TZID=America/Chicago:20280305T090000
DTEND;TZID=America/Chicago:20280305T100000
DTSTAMP:20260421T124734
CREATED:20250717T221725Z
LAST-MODIFIED:20250717T222621Z
UID:10000138-1835859600-1835863200@merrickdrivechurch.com
SUMMARY:Sunday Worship
DESCRIPTION:
URL:https://merrickdrivechurch.com/event/sunday-worship/2028-03-05/
LOCATION:Merrick Drive Church\, 1951 Merrick Drive\, Ardmore\, OK\, 73401\, United States
END:VEVENT
BEGIN:VEVENT
DTSTART;TZID=America/Chicago:20280305T103000
DTEND;TZID=America/Chicago:20280305T120000
DTSTAMP:20260421T124734
CREATED:20250717T222015Z
LAST-MODIFIED:20250717T222549Z
UID:10000399-1835865000-1835870400@merrickdrivechurch.com
SUMMARY:Bible Classes for All Ages
DESCRIPTION:
URL:https://merrickdrivechurch.com/event/bible-classes-for-all-ages/2028-03-05/
LOCATION:Merrick Drive Church\, 1951 Merrick Drive\, Ardmore\, OK\, 73401\, United States
END:VEVENT
BEGIN:VEVENT
DTSTART;TZID=America/Chicago:20280312T090000
DTEND;TZID=America/Chicago:20280312T100000
DTSTAMP:20260421T124734
CREATED:20250717T221725Z
LAST-MODIFIED:20250717T222621Z
UID:10000139-1836464400-1836468000@merrickdrivechurch.com
SUMMARY:Sunday Worship
DESCRIPTION:
URL:https://merrickdrivechurch.com/event/sunday-worship/2028-03-12/
LOCATION:Merrick Drive Church\, 1951 Merrick Drive\, Ardmore\, OK\, 73401\, United States
END:VEVENT
BEGIN:VEVENT
DTSTART;TZID=America/Chicago:20280312T103000
DTEND;TZID=America/Chicago:20280312T120000
DTSTAMP:20260421T124734
CREATED:20250717T222015Z
LAST-MODIFIED:20250717T222549Z
UID:10000400-1836469800-1836475200@merrickdrivechurch.com
SUMMARY:Bible Classes for All Ages
DESCRIPTION:
URL:https://merrickdrivechurch.com/event/bible-classes-for-all-ages/2028-03-12/
LOCATION:Merrick Drive Church\, 1951 Merrick Drive\, Ardmore\, OK\, 73401\, United States
END:VEVENT
BEGIN:VEVENT
DTSTART;TZID=America/Chicago:20280319T090000
DTEND;TZID=America/Chicago:20280319T100000
DTSTAMP:20260421T124734
CREATED:20250717T221725Z
LAST-MODIFIED:20250717T222621Z
UID:10000140-1837069200-1837072800@merrickdrivechurch.com
SUMMARY:Sunday Worship
DESCRIPTION:
URL:https://merrickdrivechurch.com/event/sunday-worship/2028-03-19/
LOCATION:Merrick Drive Church\, 1951 Merrick Drive\, Ardmore\, OK\, 73401\, United States
END:VEVENT
BEGIN:VEVENT
DTSTART;TZID=America/Chicago:20280319T103000
DTEND;TZID=America/Chicago:20280319T120000
DTSTAMP:20260421T124734
CREATED:20250717T222015Z
LAST-MODIFIED:20250717T222549Z
UID:10000401-1837074600-1837080000@merrickdrivechurch.com
SUMMARY:Bible Classes for All Ages
DESCRIPTION:
URL:https://merrickdrivechurch.com/event/bible-classes-for-all-ages/2028-03-19/
LOCATION:Merrick Drive Church\, 1951 Merrick Drive\, Ardmore\, OK\, 73401\, United States
END:VEVENT
BEGIN:VEVENT
DTSTART;TZID=America/Chicago:20280326T090000
DTEND;TZID=America/Chicago:20280326T100000
DTSTAMP:20260421T124734
CREATED:20250717T221725Z
LAST-MODIFIED:20250717T222621Z
UID:10000141-1837674000-1837677600@merrickdrivechurch.com
SUMMARY:Sunday Worship
DESCRIPTION:
URL:https://merrickdrivechurch.com/event/sunday-worship/2028-03-26/
LOCATION:Merrick Drive Church\, 1951 Merrick Drive\, Ardmore\, OK\, 73401\, United States
END:VEVENT
BEGIN:VEVENT
DTSTART;TZID=America/Chicago:20280326T103000
DTEND;TZID=America/Chicago:20280326T120000
DTSTAMP:20260421T124734
CREATED:20250717T222015Z
LAST-MODIFIED:20250717T222549Z
UID:10000402-1837679400-1837684800@merrickdrivechurch.com
SUMMARY:Bible Classes for All Ages
DESCRIPTION:
URL:https://merrickdrivechurch.com/event/bible-classes-for-all-ages/2028-03-26/
LOCATION:Merrick Drive Church\, 1951 Merrick Drive\, Ardmore\, OK\, 73401\, United States
END:VEVENT
BEGIN:VEVENT
DTSTART;TZID=America/Chicago:20280402T090000
DTEND;TZID=America/Chicago:20280402T100000
DTSTAMP:20260421T124734
CREATED:20250717T221725Z
LAST-MODIFIED:20250717T222621Z
UID:10000142-1838278800-1838282400@merrickdrivechurch.com
SUMMARY:Sunday Worship
DESCRIPTION:
URL:https://merrickdrivechurch.com/event/sunday-worship/2028-04-02/
LOCATION:Merrick Drive Church\, 1951 Merrick Drive\, Ardmore\, OK\, 73401\, United States
END:VEVENT
BEGIN:VEVENT
DTSTART;TZID=America/Chicago:20280402T103000
DTEND;TZID=America/Chicago:20280402T120000
DTSTAMP:20260421T124734
CREATED:20250717T222015Z
LAST-MODIFIED:20250717T222549Z
UID:10000403-1838284200-1838289600@merrickdrivechurch.com
SUMMARY:Bible Classes for All Ages
DESCRIPTION:
URL:https://merrickdrivechurch.com/event/bible-classes-for-all-ages/2028-04-02/
LOCATION:Merrick Drive Church\, 1951 Merrick Drive\, Ardmore\, OK\, 73401\, United States
END:VEVENT
BEGIN:VEVENT
DTSTART;TZID=America/Chicago:20280409T090000
DTEND;TZID=America/Chicago:20280409T100000
DTSTAMP:20260421T124734
CREATED:20250717T221725Z
LAST-MODIFIED:20250717T222621Z
UID:10000143-1838883600-1838887200@merrickdrivechurch.com
SUMMARY:Sunday Worship
DESCRIPTION:
URL:https://merrickdrivechurch.com/event/sunday-worship/2028-04-09/
LOCATION:Merrick Drive Church\, 1951 Merrick Drive\, Ardmore\, OK\, 73401\, United States
END:VEVENT
BEGIN:VEVENT
DTSTART;TZID=America/Chicago:20280409T103000
DTEND;TZID=America/Chicago:20280409T120000
DTSTAMP:20260421T124734
CREATED:20250717T222015Z
LAST-MODIFIED:20250717T222549Z
UID:10000404-1838889000-1838894400@merrickdrivechurch.com
SUMMARY:Bible Classes for All Ages
DESCRIPTION:
URL:https://merrickdrivechurch.com/event/bible-classes-for-all-ages/2028-04-09/
LOCATION:Merrick Drive Church\, 1951 Merrick Drive\, Ardmore\, OK\, 73401\, United States
END:VEVENT
BEGIN:VEVENT
DTSTART;TZID=America/Chicago:20280416T090000
DTEND;TZID=America/Chicago:20280416T100000
DTSTAMP:20260421T124734
CREATED:20250717T221725Z
LAST-MODIFIED:20250717T222621Z
UID:10000144-1839488400-1839492000@merrickdrivechurch.com
SUMMARY:Sunday Worship
DESCRIPTION:
URL:https://merrickdrivechurch.com/event/sunday-worship/2028-04-16/
LOCATION:Merrick Drive Church\, 1951 Merrick Drive\, Ardmore\, OK\, 73401\, United States
END:VEVENT
BEGIN:VEVENT
DTSTART;TZID=America/Chicago:20280416T103000
DTEND;TZID=America/Chicago:20280416T120000
DTSTAMP:20260421T124734
CREATED:20250717T222015Z
LAST-MODIFIED:20250717T222549Z
UID:10000405-1839493800-1839499200@merrickdrivechurch.com
SUMMARY:Bible Classes for All Ages
DESCRIPTION:
URL:https://merrickdrivechurch.com/event/bible-classes-for-all-ages/2028-04-16/
LOCATION:Merrick Drive Church\, 1951 Merrick Drive\, Ardmore\, OK\, 73401\, United States
END:VEVENT
BEGIN:VEVENT
DTSTART;TZID=America/Chicago:20280423T090000
DTEND;TZID=America/Chicago:20280423T100000
DTSTAMP:20260421T124734
CREATED:20250717T221725Z
LAST-MODIFIED:20250717T222621Z
UID:10000145-1840093200-1840096800@merrickdrivechurch.com
SUMMARY:Sunday Worship
DESCRIPTION:
URL:https://merrickdrivechurch.com/event/sunday-worship/2028-04-23/
LOCATION:Merrick Drive Church\, 1951 Merrick Drive\, Ardmore\, OK\, 73401\, United States
END:VEVENT
BEGIN:VEVENT
DTSTART;TZID=America/Chicago:20280423T103000
DTEND;TZID=America/Chicago:20280423T120000
DTSTAMP:20260421T124734
CREATED:20250717T222015Z
LAST-MODIFIED:20250717T222549Z
UID:10000406-1840098600-1840104000@merrickdrivechurch.com
SUMMARY:Bible Classes for All Ages
DESCRIPTION:
URL:https://merrickdrivechurch.com/event/bible-classes-for-all-ages/2028-04-23/
LOCATION:Merrick Drive Church\, 1951 Merrick Drive\, Ardmore\, OK\, 73401\, United States
END:VEVENT
BEGIN:VEVENT
DTSTART;TZID=America/Chicago:20280430T090000
DTEND;TZID=America/Chicago:20280430T100000
DTSTAMP:20260421T124734
CREATED:20250717T221725Z
LAST-MODIFIED:20250717T222621Z
UID:10000146-1840698000-1840701600@merrickdrivechurch.com
SUMMARY:Sunday Worship
DESCRIPTION:
URL:https://merrickdrivechurch.com/event/sunday-worship/2028-04-30/
LOCATION:Merrick Drive Church\, 1951 Merrick Drive\, Ardmore\, OK\, 73401\, United States
END:VEVENT
BEGIN:VEVENT
DTSTART;TZID=America/Chicago:20280430T103000
DTEND;TZID=America/Chicago:20280430T120000
DTSTAMP:20260421T124734
CREATED:20250717T222015Z
LAST-MODIFIED:20250717T222549Z
UID:10000407-1840703400-1840708800@merrickdrivechurch.com
SUMMARY:Bible Classes for All Ages
DESCRIPTION:
URL:https://merrickdrivechurch.com/event/bible-classes-for-all-ages/2028-04-30/
LOCATION:Merrick Drive Church\, 1951 Merrick Drive\, Ardmore\, OK\, 73401\, United States
END:VEVENT
BEGIN:VEVENT
DTSTART;TZID=America/Chicago:20280507T090000
DTEND;TZID=America/Chicago:20280507T100000
DTSTAMP:20260421T124734
CREATED:20250717T221725Z
LAST-MODIFIED:20250717T222621Z
UID:10000147-1841302800-1841306400@merrickdrivechurch.com
SUMMARY:Sunday Worship
DESCRIPTION:
URL:https://merrickdrivechurch.com/event/sunday-worship/2028-05-07/
LOCATION:Merrick Drive Church\, 1951 Merrick Drive\, Ardmore\, OK\, 73401\, United States
END:VEVENT
BEGIN:VEVENT
DTSTART;TZID=America/Chicago:20280507T103000
DTEND;TZID=America/Chicago:20280507T120000
DTSTAMP:20260421T124734
CREATED:20250717T222015Z
LAST-MODIFIED:20250717T222549Z
UID:10000408-1841308200-1841313600@merrickdrivechurch.com
SUMMARY:Bible Classes for All Ages
DESCRIPTION:
URL:https://merrickdrivechurch.com/event/bible-classes-for-all-ages/2028-05-07/
LOCATION:Merrick Drive Church\, 1951 Merrick Drive\, Ardmore\, OK\, 73401\, United States
END:VEVENT
BEGIN:VEVENT
DTSTART;TZID=America/Chicago:20280514T090000
DTEND;TZID=America/Chicago:20280514T100000
DTSTAMP:20260421T124734
CREATED:20250717T221725Z
LAST-MODIFIED:20250717T222621Z
UID:10000148-1841907600-1841911200@merrickdrivechurch.com
SUMMARY:Sunday Worship
DESCRIPTION:
URL:https://merrickdrivechurch.com/event/sunday-worship/2028-05-14/
LOCATION:Merrick Drive Church\, 1951 Merrick Drive\, Ardmore\, OK\, 73401\, United States
END:VEVENT
BEGIN:VEVENT
DTSTART;TZID=America/Chicago:20280514T103000
DTEND;TZID=America/Chicago:20280514T120000
DTSTAMP:20260421T124734
CREATED:20250717T222015Z
LAST-MODIFIED:20250717T222549Z
UID:10000409-1841913000-1841918400@merrickdrivechurch.com
SUMMARY:Bible Classes for All Ages
DESCRIPTION:
URL:https://merrickdrivechurch.com/event/bible-classes-for-all-ages/2028-05-14/
LOCATION:Merrick Drive Church\, 1951 Merrick Drive\, Ardmore\, OK\, 73401\, United States
END:VEVENT
BEGIN:VEVENT
DTSTART;TZID=America/Chicago:20280521T090000
DTEND;TZID=America/Chicago:20280521T100000
DTSTAMP:20260421T124734
CREATED:20250717T221725Z
LAST-MODIFIED:20250717T222621Z
UID:10000149-1842512400-1842516000@merrickdrivechurch.com
SUMMARY:Sunday Worship
DESCRIPTION:
URL:https://merrickdrivechurch.com/event/sunday-worship/2028-05-21/
LOCATION:Merrick Drive Church\, 1951 Merrick Drive\, Ardmore\, OK\, 73401\, United States
END:VEVENT
BEGIN:VEVENT
DTSTART;TZID=America/Chicago:20280521T103000
DTEND;TZID=America/Chicago:20280521T120000
DTSTAMP:20260421T124734
CREATED:20250717T222015Z
LAST-MODIFIED:20250717T222549Z
UID:10000410-1842517800-1842523200@merrickdrivechurch.com
SUMMARY:Bible Classes for All Ages
DESCRIPTION:
URL:https://merrickdrivechurch.com/event/bible-classes-for-all-ages/2028-05-21/
LOCATION:Merrick Drive Church\, 1951 Merrick Drive\, Ardmore\, OK\, 73401\, United States
END:VEVENT
BEGIN:VEVENT
DTSTART;TZID=America/Chicago:20280528T090000
DTEND;TZID=America/Chicago:20280528T100000
DTSTAMP:20260421T124734
CREATED:20250717T221725Z
LAST-MODIFIED:20250717T222621Z
UID:10000150-1843117200-1843120800@merrickdrivechurch.com
SUMMARY:Sunday Worship
DESCRIPTION:
URL:https://merrickdrivechurch.com/event/sunday-worship/2028-05-28/
LOCATION:Merrick Drive Church\, 1951 Merrick Drive\, Ardmore\, OK\, 73401\, United States
END:VEVENT
BEGIN:VEVENT
DTSTART;TZID=America/Chicago:20280528T103000
DTEND;TZID=America/Chicago:20280528T120000
DTSTAMP:20260421T124734
CREATED:20250717T222015Z
LAST-MODIFIED:20250717T222549Z
UID:10000411-1843122600-1843128000@merrickdrivechurch.com
SUMMARY:Bible Classes for All Ages
DESCRIPTION:
URL:https://merrickdrivechurch.com/event/bible-classes-for-all-ages/2028-05-28/
LOCATION:Merrick Drive Church\, 1951 Merrick Drive\, Ardmore\, OK\, 73401\, United States
END:VEVENT
BEGIN:VEVENT
DTSTART;TZID=America/Chicago:20280604T090000
DTEND;TZID=America/Chicago:20280604T100000
DTSTAMP:20260421T124734
CREATED:20250717T221725Z
LAST-MODIFIED:20250717T222621Z
UID:10000151-1843722000-1843725600@merrickdrivechurch.com
SUMMARY:Sunday Worship
DESCRIPTION:
URL:https://merrickdrivechurch.com/event/sunday-worship/2028-06-04/
LOCATION:Merrick Drive Church\, 1951 Merrick Drive\, Ardmore\, OK\, 73401\, United States
END:VEVENT
BEGIN:VEVENT
DTSTART;TZID=America/Chicago:20280604T103000
DTEND;TZID=America/Chicago:20280604T120000
DTSTAMP:20260421T124735
CREATED:20250717T222015Z
LAST-MODIFIED:20250717T222549Z
UID:10000412-1843727400-1843732800@merrickdrivechurch.com
SUMMARY:Bible Classes for All Ages
DESCRIPTION:
URL:https://merrickdrivechurch.com/event/bible-classes-for-all-ages/2028-06-04/
LOCATION:Merrick Drive Church\, 1951 Merrick Drive\, Ardmore\, OK\, 73401\, United States
END:VEVENT
END:VCALENDAR