BEGIN:VCALENDAR
VERSION:2.0
PRODID:-//Merrick Drive Church of Christ - ECPv6.14.1//NONSGML v1.0//EN
CALSCALE:GREGORIAN
METHOD:PUBLISH
X-ORIGINAL-URL:https://merrickdrivechurch.com
X-WR-CALDESC:Events for Merrick Drive Church of Christ
REFRESH-INTERVAL;VALUE=DURATION:PT1H
X-Robots-Tag:noindex
X-PUBLISHED-TTL:PT1H
BEGIN:VTIMEZONE
TZID:America/Chicago
BEGIN:DAYLIGHT
TZOFFSETFROM:-0600
TZOFFSETTO:-0500
TZNAME:CDT
DTSTART:20280312T080000
END:DAYLIGHT
BEGIN:STANDARD
TZOFFSETFROM:-0500
TZOFFSETTO:-0600
TZNAME:CST
DTSTART:20281105T070000
END:STANDARD
END:VTIMEZONE
BEGIN:VEVENT
DTSTART;TZID=America/Chicago:20280521T090000
DTEND;TZID=America/Chicago:20280521T100000
DTSTAMP:20260421T155044
CREATED:20250717T221725Z
LAST-MODIFIED:20250717T222621Z
UID:10000149-1842512400-1842516000@merrickdrivechurch.com
SUMMARY:Sunday Worship
DESCRIPTION:
URL:https://merrickdrivechurch.com/event/sunday-worship/2028-05-21/
LOCATION:Merrick Drive Church\, 1951 Merrick Drive\, Ardmore\, OK\, 73401\, United States
END:VEVENT
BEGIN:VEVENT
DTSTART;TZID=America/Chicago:20280521T103000
DTEND;TZID=America/Chicago:20280521T120000
DTSTAMP:20260421T155044
CREATED:20250717T222015Z
LAST-MODIFIED:20250717T222549Z
UID:10000410-1842517800-1842523200@merrickdrivechurch.com
SUMMARY:Bible Classes for All Ages
DESCRIPTION:
URL:https://merrickdrivechurch.com/event/bible-classes-for-all-ages/2028-05-21/
LOCATION:Merrick Drive Church\, 1951 Merrick Drive\, Ardmore\, OK\, 73401\, United States
END:VEVENT
BEGIN:VEVENT
DTSTART;TZID=America/Chicago:20280528T090000
DTEND;TZID=America/Chicago:20280528T100000
DTSTAMP:20260421T155044
CREATED:20250717T221725Z
LAST-MODIFIED:20250717T222621Z
UID:10000150-1843117200-1843120800@merrickdrivechurch.com
SUMMARY:Sunday Worship
DESCRIPTION:
URL:https://merrickdrivechurch.com/event/sunday-worship/2028-05-28/
LOCATION:Merrick Drive Church\, 1951 Merrick Drive\, Ardmore\, OK\, 73401\, United States
END:VEVENT
BEGIN:VEVENT
DTSTART;TZID=America/Chicago:20280528T103000
DTEND;TZID=America/Chicago:20280528T120000
DTSTAMP:20260421T155044
CREATED:20250717T222015Z
LAST-MODIFIED:20250717T222549Z
UID:10000411-1843122600-1843128000@merrickdrivechurch.com
SUMMARY:Bible Classes for All Ages
DESCRIPTION:
URL:https://merrickdrivechurch.com/event/bible-classes-for-all-ages/2028-05-28/
LOCATION:Merrick Drive Church\, 1951 Merrick Drive\, Ardmore\, OK\, 73401\, United States
END:VEVENT
BEGIN:VEVENT
DTSTART;TZID=America/Chicago:20280604T090000
DTEND;TZID=America/Chicago:20280604T100000
DTSTAMP:20260421T155044
CREATED:20250717T221725Z
LAST-MODIFIED:20250717T222621Z
UID:10000151-1843722000-1843725600@merrickdrivechurch.com
SUMMARY:Sunday Worship
DESCRIPTION:
URL:https://merrickdrivechurch.com/event/sunday-worship/2028-06-04/
LOCATION:Merrick Drive Church\, 1951 Merrick Drive\, Ardmore\, OK\, 73401\, United States
END:VEVENT
BEGIN:VEVENT
DTSTART;TZID=America/Chicago:20280604T103000
DTEND;TZID=America/Chicago:20280604T120000
DTSTAMP:20260421T155044
CREATED:20250717T222015Z
LAST-MODIFIED:20250717T222549Z
UID:10000412-1843727400-1843732800@merrickdrivechurch.com
SUMMARY:Bible Classes for All Ages
DESCRIPTION:
URL:https://merrickdrivechurch.com/event/bible-classes-for-all-ages/2028-06-04/
LOCATION:Merrick Drive Church\, 1951 Merrick Drive\, Ardmore\, OK\, 73401\, United States
END:VEVENT
BEGIN:VEVENT
DTSTART;TZID=America/Chicago:20280611T090000
DTEND;TZID=America/Chicago:20280611T100000
DTSTAMP:20260421T155044
CREATED:20250717T221725Z
LAST-MODIFIED:20250717T222621Z
UID:10000152-1844326800-1844330400@merrickdrivechurch.com
SUMMARY:Sunday Worship
DESCRIPTION:
URL:https://merrickdrivechurch.com/event/sunday-worship/2028-06-11/
LOCATION:Merrick Drive Church\, 1951 Merrick Drive\, Ardmore\, OK\, 73401\, United States
END:VEVENT
BEGIN:VEVENT
DTSTART;TZID=America/Chicago:20280611T103000
DTEND;TZID=America/Chicago:20280611T120000
DTSTAMP:20260421T155044
CREATED:20250717T222015Z
LAST-MODIFIED:20250717T222549Z
UID:10000413-1844332200-1844337600@merrickdrivechurch.com
SUMMARY:Bible Classes for All Ages
DESCRIPTION:
URL:https://merrickdrivechurch.com/event/bible-classes-for-all-ages/2028-06-11/
LOCATION:Merrick Drive Church\, 1951 Merrick Drive\, Ardmore\, OK\, 73401\, United States
END:VEVENT
BEGIN:VEVENT
DTSTART;TZID=America/Chicago:20280618T090000
DTEND;TZID=America/Chicago:20280618T100000
DTSTAMP:20260421T155044
CREATED:20250717T221725Z
LAST-MODIFIED:20250717T222621Z
UID:10000153-1844931600-1844935200@merrickdrivechurch.com
SUMMARY:Sunday Worship
DESCRIPTION:
URL:https://merrickdrivechurch.com/event/sunday-worship/2028-06-18/
LOCATION:Merrick Drive Church\, 1951 Merrick Drive\, Ardmore\, OK\, 73401\, United States
END:VEVENT
BEGIN:VEVENT
DTSTART;TZID=America/Chicago:20280618T103000
DTEND;TZID=America/Chicago:20280618T120000
DTSTAMP:20260421T155044
CREATED:20250717T222015Z
LAST-MODIFIED:20250717T222549Z
UID:10000414-1844937000-1844942400@merrickdrivechurch.com
SUMMARY:Bible Classes for All Ages
DESCRIPTION:
URL:https://merrickdrivechurch.com/event/bible-classes-for-all-ages/2028-06-18/
LOCATION:Merrick Drive Church\, 1951 Merrick Drive\, Ardmore\, OK\, 73401\, United States
END:VEVENT
BEGIN:VEVENT
DTSTART;TZID=America/Chicago:20280625T090000
DTEND;TZID=America/Chicago:20280625T100000
DTSTAMP:20260421T155044
CREATED:20250717T221725Z
LAST-MODIFIED:20250717T222621Z
UID:10000154-1845536400-1845540000@merrickdrivechurch.com
SUMMARY:Sunday Worship
DESCRIPTION:
URL:https://merrickdrivechurch.com/event/sunday-worship/2028-06-25/
LOCATION:Merrick Drive Church\, 1951 Merrick Drive\, Ardmore\, OK\, 73401\, United States
END:VEVENT
BEGIN:VEVENT
DTSTART;TZID=America/Chicago:20280625T103000
DTEND;TZID=America/Chicago:20280625T120000
DTSTAMP:20260421T155044
CREATED:20250717T222015Z
LAST-MODIFIED:20250717T222549Z
UID:10000415-1845541800-1845547200@merrickdrivechurch.com
SUMMARY:Bible Classes for All Ages
DESCRIPTION:
URL:https://merrickdrivechurch.com/event/bible-classes-for-all-ages/2028-06-25/
LOCATION:Merrick Drive Church\, 1951 Merrick Drive\, Ardmore\, OK\, 73401\, United States
END:VEVENT
BEGIN:VEVENT
DTSTART;TZID=America/Chicago:20280702T090000
DTEND;TZID=America/Chicago:20280702T100000
DTSTAMP:20260421T155044
CREATED:20250717T221725Z
LAST-MODIFIED:20250717T222621Z
UID:10000155-1846141200-1846144800@merrickdrivechurch.com
SUMMARY:Sunday Worship
DESCRIPTION:
URL:https://merrickdrivechurch.com/event/sunday-worship/2028-07-02/
LOCATION:Merrick Drive Church\, 1951 Merrick Drive\, Ardmore\, OK\, 73401\, United States
END:VEVENT
BEGIN:VEVENT
DTSTART;TZID=America/Chicago:20280702T103000
DTEND;TZID=America/Chicago:20280702T120000
DTSTAMP:20260421T155044
CREATED:20250717T222015Z
LAST-MODIFIED:20250717T222549Z
UID:10000416-1846146600-1846152000@merrickdrivechurch.com
SUMMARY:Bible Classes for All Ages
DESCRIPTION:
URL:https://merrickdrivechurch.com/event/bible-classes-for-all-ages/2028-07-02/
LOCATION:Merrick Drive Church\, 1951 Merrick Drive\, Ardmore\, OK\, 73401\, United States
END:VEVENT
BEGIN:VEVENT
DTSTART;TZID=America/Chicago:20280709T090000
DTEND;TZID=America/Chicago:20280709T100000
DTSTAMP:20260421T155044
CREATED:20250717T221725Z
LAST-MODIFIED:20250717T222621Z
UID:10000156-1846746000-1846749600@merrickdrivechurch.com
SUMMARY:Sunday Worship
DESCRIPTION:
URL:https://merrickdrivechurch.com/event/sunday-worship/2028-07-09/
LOCATION:Merrick Drive Church\, 1951 Merrick Drive\, Ardmore\, OK\, 73401\, United States
END:VEVENT
BEGIN:VEVENT
DTSTART;TZID=America/Chicago:20280709T103000
DTEND;TZID=America/Chicago:20280709T120000
DTSTAMP:20260421T155044
CREATED:20250717T222015Z
LAST-MODIFIED:20250717T222549Z
UID:10000417-1846751400-1846756800@merrickdrivechurch.com
SUMMARY:Bible Classes for All Ages
DESCRIPTION:
URL:https://merrickdrivechurch.com/event/bible-classes-for-all-ages/2028-07-09/
LOCATION:Merrick Drive Church\, 1951 Merrick Drive\, Ardmore\, OK\, 73401\, United States
END:VEVENT
BEGIN:VEVENT
DTSTART;TZID=America/Chicago:20280716T090000
DTEND;TZID=America/Chicago:20280716T100000
DTSTAMP:20260421T155044
CREATED:20250717T221725Z
LAST-MODIFIED:20250717T222621Z
UID:10000157-1847350800-1847354400@merrickdrivechurch.com
SUMMARY:Sunday Worship
DESCRIPTION:
URL:https://merrickdrivechurch.com/event/sunday-worship/2028-07-16/
LOCATION:Merrick Drive Church\, 1951 Merrick Drive\, Ardmore\, OK\, 73401\, United States
END:VEVENT
BEGIN:VEVENT
DTSTART;TZID=America/Chicago:20280716T103000
DTEND;TZID=America/Chicago:20280716T120000
DTSTAMP:20260421T155044
CREATED:20250717T222015Z
LAST-MODIFIED:20250717T222549Z
UID:10000418-1847356200-1847361600@merrickdrivechurch.com
SUMMARY:Bible Classes for All Ages
DESCRIPTION:
URL:https://merrickdrivechurch.com/event/bible-classes-for-all-ages/2028-07-16/
LOCATION:Merrick Drive Church\, 1951 Merrick Drive\, Ardmore\, OK\, 73401\, United States
END:VEVENT
BEGIN:VEVENT
DTSTART;TZID=America/Chicago:20280723T090000
DTEND;TZID=America/Chicago:20280723T100000
DTSTAMP:20260421T155044
CREATED:20250717T221725Z
LAST-MODIFIED:20250717T222621Z
UID:10000158-1847955600-1847959200@merrickdrivechurch.com
SUMMARY:Sunday Worship
DESCRIPTION:
URL:https://merrickdrivechurch.com/event/sunday-worship/2028-07-23/
LOCATION:Merrick Drive Church\, 1951 Merrick Drive\, Ardmore\, OK\, 73401\, United States
END:VEVENT
BEGIN:VEVENT
DTSTART;TZID=America/Chicago:20280723T103000
DTEND;TZID=America/Chicago:20280723T120000
DTSTAMP:20260421T155044
CREATED:20250717T222015Z
LAST-MODIFIED:20250717T222549Z
UID:10000419-1847961000-1847966400@merrickdrivechurch.com
SUMMARY:Bible Classes for All Ages
DESCRIPTION:
URL:https://merrickdrivechurch.com/event/bible-classes-for-all-ages/2028-07-23/
LOCATION:Merrick Drive Church\, 1951 Merrick Drive\, Ardmore\, OK\, 73401\, United States
END:VEVENT
BEGIN:VEVENT
DTSTART;TZID=America/Chicago:20280730T090000
DTEND;TZID=America/Chicago:20280730T100000
DTSTAMP:20260421T155044
CREATED:20250717T221725Z
LAST-MODIFIED:20250717T222621Z
UID:10000159-1848560400-1848564000@merrickdrivechurch.com
SUMMARY:Sunday Worship
DESCRIPTION:
URL:https://merrickdrivechurch.com/event/sunday-worship/2028-07-30/
LOCATION:Merrick Drive Church\, 1951 Merrick Drive\, Ardmore\, OK\, 73401\, United States
END:VEVENT
BEGIN:VEVENT
DTSTART;TZID=America/Chicago:20280730T103000
DTEND;TZID=America/Chicago:20280730T120000
DTSTAMP:20260421T155044
CREATED:20250717T222015Z
LAST-MODIFIED:20250717T222549Z
UID:10000420-1848565800-1848571200@merrickdrivechurch.com
SUMMARY:Bible Classes for All Ages
DESCRIPTION:
URL:https://merrickdrivechurch.com/event/bible-classes-for-all-ages/2028-07-30/
LOCATION:Merrick Drive Church\, 1951 Merrick Drive\, Ardmore\, OK\, 73401\, United States
END:VEVENT
BEGIN:VEVENT
DTSTART;TZID=America/Chicago:20280806T090000
DTEND;TZID=America/Chicago:20280806T100000
DTSTAMP:20260421T155044
CREATED:20250717T221725Z
LAST-MODIFIED:20250717T222621Z
UID:10000160-1849165200-1849168800@merrickdrivechurch.com
SUMMARY:Sunday Worship
DESCRIPTION:
URL:https://merrickdrivechurch.com/event/sunday-worship/2028-08-06/
LOCATION:Merrick Drive Church\, 1951 Merrick Drive\, Ardmore\, OK\, 73401\, United States
END:VEVENT
BEGIN:VEVENT
DTSTART;TZID=America/Chicago:20280806T103000
DTEND;TZID=America/Chicago:20280806T120000
DTSTAMP:20260421T155044
CREATED:20250717T222015Z
LAST-MODIFIED:20250717T222549Z
UID:10000421-1849170600-1849176000@merrickdrivechurch.com
SUMMARY:Bible Classes for All Ages
DESCRIPTION:
URL:https://merrickdrivechurch.com/event/bible-classes-for-all-ages/2028-08-06/
LOCATION:Merrick Drive Church\, 1951 Merrick Drive\, Ardmore\, OK\, 73401\, United States
END:VEVENT
BEGIN:VEVENT
DTSTART;TZID=America/Chicago:20280813T090000
DTEND;TZID=America/Chicago:20280813T100000
DTSTAMP:20260421T155044
CREATED:20250717T221725Z
LAST-MODIFIED:20250717T222621Z
UID:10000161-1849770000-1849773600@merrickdrivechurch.com
SUMMARY:Sunday Worship
DESCRIPTION:
URL:https://merrickdrivechurch.com/event/sunday-worship/2028-08-13/
LOCATION:Merrick Drive Church\, 1951 Merrick Drive\, Ardmore\, OK\, 73401\, United States
END:VEVENT
BEGIN:VEVENT
DTSTART;TZID=America/Chicago:20280813T103000
DTEND;TZID=America/Chicago:20280813T120000
DTSTAMP:20260421T155044
CREATED:20250717T222015Z
LAST-MODIFIED:20250717T222549Z
UID:10000422-1849775400-1849780800@merrickdrivechurch.com
SUMMARY:Bible Classes for All Ages
DESCRIPTION:
URL:https://merrickdrivechurch.com/event/bible-classes-for-all-ages/2028-08-13/
LOCATION:Merrick Drive Church\, 1951 Merrick Drive\, Ardmore\, OK\, 73401\, United States
END:VEVENT
BEGIN:VEVENT
DTSTART;TZID=America/Chicago:20280820T090000
DTEND;TZID=America/Chicago:20280820T100000
DTSTAMP:20260421T155044
CREATED:20250717T221725Z
LAST-MODIFIED:20250717T222621Z
UID:10000162-1850374800-1850378400@merrickdrivechurch.com
SUMMARY:Sunday Worship
DESCRIPTION:
URL:https://merrickdrivechurch.com/event/sunday-worship/2028-08-20/
LOCATION:Merrick Drive Church\, 1951 Merrick Drive\, Ardmore\, OK\, 73401\, United States
END:VEVENT
BEGIN:VEVENT
DTSTART;TZID=America/Chicago:20280820T103000
DTEND;TZID=America/Chicago:20280820T120000
DTSTAMP:20260421T155044
CREATED:20250717T222015Z
LAST-MODIFIED:20250717T222549Z
UID:10000423-1850380200-1850385600@merrickdrivechurch.com
SUMMARY:Bible Classes for All Ages
DESCRIPTION:
URL:https://merrickdrivechurch.com/event/bible-classes-for-all-ages/2028-08-20/
LOCATION:Merrick Drive Church\, 1951 Merrick Drive\, Ardmore\, OK\, 73401\, United States
END:VEVENT
BEGIN:VEVENT
DTSTART;TZID=America/Chicago:20280827T090000
DTEND;TZID=America/Chicago:20280827T100000
DTSTAMP:20260421T155044
CREATED:20250717T221725Z
LAST-MODIFIED:20250717T222621Z
UID:10000163-1850979600-1850983200@merrickdrivechurch.com
SUMMARY:Sunday Worship
DESCRIPTION:
URL:https://merrickdrivechurch.com/event/sunday-worship/2028-08-27/
LOCATION:Merrick Drive Church\, 1951 Merrick Drive\, Ardmore\, OK\, 73401\, United States
END:VEVENT
BEGIN:VEVENT
DTSTART;TZID=America/Chicago:20280827T103000
DTEND;TZID=America/Chicago:20280827T120000
DTSTAMP:20260421T155044
CREATED:20250717T222015Z
LAST-MODIFIED:20250717T222549Z
UID:10000424-1850985000-1850990400@merrickdrivechurch.com
SUMMARY:Bible Classes for All Ages
DESCRIPTION:
URL:https://merrickdrivechurch.com/event/bible-classes-for-all-ages/2028-08-27/
LOCATION:Merrick Drive Church\, 1951 Merrick Drive\, Ardmore\, OK\, 73401\, United States
END:VEVENT
END:VCALENDAR