BEGIN:VCALENDAR
VERSION:2.0
PRODID:-//Merrick Drive Church of Christ - ECPv6.14.1//NONSGML v1.0//EN
CALSCALE:GREGORIAN
METHOD:PUBLISH
X-WR-CALNAME:Merrick Drive Church of Christ
X-ORIGINAL-URL:https://merrickdrivechurch.com
X-WR-CALDESC:Events for Merrick Drive Church of Christ
REFRESH-INTERVAL;VALUE=DURATION:PT1H
X-Robots-Tag:noindex
X-PUBLISHED-TTL:PT1H
BEGIN:VTIMEZONE
TZID:America/Chicago
BEGIN:DAYLIGHT
TZOFFSETFROM:-0600
TZOFFSETTO:-0500
TZNAME:CDT
DTSTART:20270314T080000
END:DAYLIGHT
BEGIN:STANDARD
TZOFFSETFROM:-0500
TZOFFSETTO:-0600
TZNAME:CST
DTSTART:20271107T070000
END:STANDARD
END:VTIMEZONE
BEGIN:VEVENT
DTSTART;TZID=America/Chicago:20270912T090000
DTEND;TZID=America/Chicago:20270912T100000
DTSTAMP:20260421T063813
CREATED:20250717T221725Z
LAST-MODIFIED:20250717T222621Z
UID:10000113-1820739600-1820743200@merrickdrivechurch.com
SUMMARY:Sunday Worship
DESCRIPTION:
URL:https://merrickdrivechurch.com/event/sunday-worship/2027-09-12/
LOCATION:Merrick Drive Church\, 1951 Merrick Drive\, Ardmore\, OK\, 73401\, United States
END:VEVENT
BEGIN:VEVENT
DTSTART;TZID=America/Chicago:20270912T103000
DTEND;TZID=America/Chicago:20270912T120000
DTSTAMP:20260421T063813
CREATED:20250717T222015Z
LAST-MODIFIED:20250717T222549Z
UID:10000374-1820745000-1820750400@merrickdrivechurch.com
SUMMARY:Bible Classes for All Ages
DESCRIPTION:
URL:https://merrickdrivechurch.com/event/bible-classes-for-all-ages/2027-09-12/
LOCATION:Merrick Drive Church\, 1951 Merrick Drive\, Ardmore\, OK\, 73401\, United States
END:VEVENT
BEGIN:VEVENT
DTSTART;TZID=America/Chicago:20270919T090000
DTEND;TZID=America/Chicago:20270919T100000
DTSTAMP:20260421T063813
CREATED:20250717T221725Z
LAST-MODIFIED:20250717T222621Z
UID:10000114-1821344400-1821348000@merrickdrivechurch.com
SUMMARY:Sunday Worship
DESCRIPTION:
URL:https://merrickdrivechurch.com/event/sunday-worship/2027-09-19/
LOCATION:Merrick Drive Church\, 1951 Merrick Drive\, Ardmore\, OK\, 73401\, United States
END:VEVENT
BEGIN:VEVENT
DTSTART;TZID=America/Chicago:20270919T103000
DTEND;TZID=America/Chicago:20270919T120000
DTSTAMP:20260421T063813
CREATED:20250717T222015Z
LAST-MODIFIED:20250717T222549Z
UID:10000375-1821349800-1821355200@merrickdrivechurch.com
SUMMARY:Bible Classes for All Ages
DESCRIPTION:
URL:https://merrickdrivechurch.com/event/bible-classes-for-all-ages/2027-09-19/
LOCATION:Merrick Drive Church\, 1951 Merrick Drive\, Ardmore\, OK\, 73401\, United States
END:VEVENT
BEGIN:VEVENT
DTSTART;TZID=America/Chicago:20270926T090000
DTEND;TZID=America/Chicago:20270926T100000
DTSTAMP:20260421T063813
CREATED:20250717T221725Z
LAST-MODIFIED:20250717T222621Z
UID:10000115-1821949200-1821952800@merrickdrivechurch.com
SUMMARY:Sunday Worship
DESCRIPTION:
URL:https://merrickdrivechurch.com/event/sunday-worship/2027-09-26/
LOCATION:Merrick Drive Church\, 1951 Merrick Drive\, Ardmore\, OK\, 73401\, United States
END:VEVENT
BEGIN:VEVENT
DTSTART;TZID=America/Chicago:20270926T103000
DTEND;TZID=America/Chicago:20270926T120000
DTSTAMP:20260421T063813
CREATED:20250717T222015Z
LAST-MODIFIED:20250717T222549Z
UID:10000376-1821954600-1821960000@merrickdrivechurch.com
SUMMARY:Bible Classes for All Ages
DESCRIPTION:
URL:https://merrickdrivechurch.com/event/bible-classes-for-all-ages/2027-09-26/
LOCATION:Merrick Drive Church\, 1951 Merrick Drive\, Ardmore\, OK\, 73401\, United States
END:VEVENT
BEGIN:VEVENT
DTSTART;TZID=America/Chicago:20271003T090000
DTEND;TZID=America/Chicago:20271003T100000
DTSTAMP:20260421T063813
CREATED:20250717T221725Z
LAST-MODIFIED:20250717T222621Z
UID:10000116-1822554000-1822557600@merrickdrivechurch.com
SUMMARY:Sunday Worship
DESCRIPTION:
URL:https://merrickdrivechurch.com/event/sunday-worship/2027-10-03/
LOCATION:Merrick Drive Church\, 1951 Merrick Drive\, Ardmore\, OK\, 73401\, United States
END:VEVENT
BEGIN:VEVENT
DTSTART;TZID=America/Chicago:20271003T103000
DTEND;TZID=America/Chicago:20271003T120000
DTSTAMP:20260421T063813
CREATED:20250717T222015Z
LAST-MODIFIED:20250717T222549Z
UID:10000377-1822559400-1822564800@merrickdrivechurch.com
SUMMARY:Bible Classes for All Ages
DESCRIPTION:
URL:https://merrickdrivechurch.com/event/bible-classes-for-all-ages/2027-10-03/
LOCATION:Merrick Drive Church\, 1951 Merrick Drive\, Ardmore\, OK\, 73401\, United States
END:VEVENT
BEGIN:VEVENT
DTSTART;TZID=America/Chicago:20271010T090000
DTEND;TZID=America/Chicago:20271010T100000
DTSTAMP:20260421T063813
CREATED:20250717T221725Z
LAST-MODIFIED:20250717T222621Z
UID:10000117-1823158800-1823162400@merrickdrivechurch.com
SUMMARY:Sunday Worship
DESCRIPTION:
URL:https://merrickdrivechurch.com/event/sunday-worship/2027-10-10/
LOCATION:Merrick Drive Church\, 1951 Merrick Drive\, Ardmore\, OK\, 73401\, United States
END:VEVENT
BEGIN:VEVENT
DTSTART;TZID=America/Chicago:20271010T103000
DTEND;TZID=America/Chicago:20271010T120000
DTSTAMP:20260421T063813
CREATED:20250717T222015Z
LAST-MODIFIED:20250717T222549Z
UID:10000378-1823164200-1823169600@merrickdrivechurch.com
SUMMARY:Bible Classes for All Ages
DESCRIPTION:
URL:https://merrickdrivechurch.com/event/bible-classes-for-all-ages/2027-10-10/
LOCATION:Merrick Drive Church\, 1951 Merrick Drive\, Ardmore\, OK\, 73401\, United States
END:VEVENT
BEGIN:VEVENT
DTSTART;TZID=America/Chicago:20271017T090000
DTEND;TZID=America/Chicago:20271017T100000
DTSTAMP:20260421T063813
CREATED:20250717T221725Z
LAST-MODIFIED:20250717T222621Z
UID:10000118-1823763600-1823767200@merrickdrivechurch.com
SUMMARY:Sunday Worship
DESCRIPTION:
URL:https://merrickdrivechurch.com/event/sunday-worship/2027-10-17/
LOCATION:Merrick Drive Church\, 1951 Merrick Drive\, Ardmore\, OK\, 73401\, United States
END:VEVENT
BEGIN:VEVENT
DTSTART;TZID=America/Chicago:20271017T103000
DTEND;TZID=America/Chicago:20271017T120000
DTSTAMP:20260421T063813
CREATED:20250717T222015Z
LAST-MODIFIED:20250717T222549Z
UID:10000379-1823769000-1823774400@merrickdrivechurch.com
SUMMARY:Bible Classes for All Ages
DESCRIPTION:
URL:https://merrickdrivechurch.com/event/bible-classes-for-all-ages/2027-10-17/
LOCATION:Merrick Drive Church\, 1951 Merrick Drive\, Ardmore\, OK\, 73401\, United States
END:VEVENT
BEGIN:VEVENT
DTSTART;TZID=America/Chicago:20271024T090000
DTEND;TZID=America/Chicago:20271024T100000
DTSTAMP:20260421T063813
CREATED:20250717T221725Z
LAST-MODIFIED:20250717T222621Z
UID:10000119-1824368400-1824372000@merrickdrivechurch.com
SUMMARY:Sunday Worship
DESCRIPTION:
URL:https://merrickdrivechurch.com/event/sunday-worship/2027-10-24/
LOCATION:Merrick Drive Church\, 1951 Merrick Drive\, Ardmore\, OK\, 73401\, United States
END:VEVENT
BEGIN:VEVENT
DTSTART;TZID=America/Chicago:20271024T103000
DTEND;TZID=America/Chicago:20271024T120000
DTSTAMP:20260421T063813
CREATED:20250717T222015Z
LAST-MODIFIED:20250717T222549Z
UID:10000380-1824373800-1824379200@merrickdrivechurch.com
SUMMARY:Bible Classes for All Ages
DESCRIPTION:
URL:https://merrickdrivechurch.com/event/bible-classes-for-all-ages/2027-10-24/
LOCATION:Merrick Drive Church\, 1951 Merrick Drive\, Ardmore\, OK\, 73401\, United States
END:VEVENT
BEGIN:VEVENT
DTSTART;TZID=America/Chicago:20271031T090000
DTEND;TZID=America/Chicago:20271031T100000
DTSTAMP:20260421T063813
CREATED:20250717T221725Z
LAST-MODIFIED:20250717T222621Z
UID:10000120-1824973200-1824976800@merrickdrivechurch.com
SUMMARY:Sunday Worship
DESCRIPTION:
URL:https://merrickdrivechurch.com/event/sunday-worship/2027-10-31/
LOCATION:Merrick Drive Church\, 1951 Merrick Drive\, Ardmore\, OK\, 73401\, United States
END:VEVENT
BEGIN:VEVENT
DTSTART;TZID=America/Chicago:20271031T103000
DTEND;TZID=America/Chicago:20271031T120000
DTSTAMP:20260421T063813
CREATED:20250717T222015Z
LAST-MODIFIED:20250717T222549Z
UID:10000381-1824978600-1824984000@merrickdrivechurch.com
SUMMARY:Bible Classes for All Ages
DESCRIPTION:
URL:https://merrickdrivechurch.com/event/bible-classes-for-all-ages/2027-10-31/
LOCATION:Merrick Drive Church\, 1951 Merrick Drive\, Ardmore\, OK\, 73401\, United States
END:VEVENT
BEGIN:VEVENT
DTSTART;TZID=America/Chicago:20271107T090000
DTEND;TZID=America/Chicago:20271107T100000
DTSTAMP:20260421T063813
CREATED:20250717T221725Z
LAST-MODIFIED:20250717T222621Z
UID:10000121-1825578000-1825581600@merrickdrivechurch.com
SUMMARY:Sunday Worship
DESCRIPTION:
URL:https://merrickdrivechurch.com/event/sunday-worship/2027-11-07/
LOCATION:Merrick Drive Church\, 1951 Merrick Drive\, Ardmore\, OK\, 73401\, United States
END:VEVENT
BEGIN:VEVENT
DTSTART;TZID=America/Chicago:20271107T103000
DTEND;TZID=America/Chicago:20271107T120000
DTSTAMP:20260421T063813
CREATED:20250717T222015Z
LAST-MODIFIED:20250717T222549Z
UID:10000382-1825583400-1825588800@merrickdrivechurch.com
SUMMARY:Bible Classes for All Ages
DESCRIPTION:
URL:https://merrickdrivechurch.com/event/bible-classes-for-all-ages/2027-11-07/
LOCATION:Merrick Drive Church\, 1951 Merrick Drive\, Ardmore\, OK\, 73401\, United States
END:VEVENT
BEGIN:VEVENT
DTSTART;TZID=America/Chicago:20271114T090000
DTEND;TZID=America/Chicago:20271114T100000
DTSTAMP:20260421T063813
CREATED:20250717T221725Z
LAST-MODIFIED:20250717T222621Z
UID:10000122-1826182800-1826186400@merrickdrivechurch.com
SUMMARY:Sunday Worship
DESCRIPTION:
URL:https://merrickdrivechurch.com/event/sunday-worship/2027-11-14/
LOCATION:Merrick Drive Church\, 1951 Merrick Drive\, Ardmore\, OK\, 73401\, United States
END:VEVENT
BEGIN:VEVENT
DTSTART;TZID=America/Chicago:20271114T103000
DTEND;TZID=America/Chicago:20271114T120000
DTSTAMP:20260421T063813
CREATED:20250717T222015Z
LAST-MODIFIED:20250717T222549Z
UID:10000383-1826188200-1826193600@merrickdrivechurch.com
SUMMARY:Bible Classes for All Ages
DESCRIPTION:
URL:https://merrickdrivechurch.com/event/bible-classes-for-all-ages/2027-11-14/
LOCATION:Merrick Drive Church\, 1951 Merrick Drive\, Ardmore\, OK\, 73401\, United States
END:VEVENT
BEGIN:VEVENT
DTSTART;TZID=America/Chicago:20271121T090000
DTEND;TZID=America/Chicago:20271121T100000
DTSTAMP:20260421T063813
CREATED:20250717T221725Z
LAST-MODIFIED:20250717T222621Z
UID:10000123-1826787600-1826791200@merrickdrivechurch.com
SUMMARY:Sunday Worship
DESCRIPTION:
URL:https://merrickdrivechurch.com/event/sunday-worship/2027-11-21/
LOCATION:Merrick Drive Church\, 1951 Merrick Drive\, Ardmore\, OK\, 73401\, United States
END:VEVENT
BEGIN:VEVENT
DTSTART;TZID=America/Chicago:20271121T103000
DTEND;TZID=America/Chicago:20271121T120000
DTSTAMP:20260421T063813
CREATED:20250717T222015Z
LAST-MODIFIED:20250717T222549Z
UID:10000384-1826793000-1826798400@merrickdrivechurch.com
SUMMARY:Bible Classes for All Ages
DESCRIPTION:
URL:https://merrickdrivechurch.com/event/bible-classes-for-all-ages/2027-11-21/
LOCATION:Merrick Drive Church\, 1951 Merrick Drive\, Ardmore\, OK\, 73401\, United States
END:VEVENT
BEGIN:VEVENT
DTSTART;TZID=America/Chicago:20271128T090000
DTEND;TZID=America/Chicago:20271128T100000
DTSTAMP:20260421T063813
CREATED:20250717T221725Z
LAST-MODIFIED:20250717T222621Z
UID:10000124-1827392400-1827396000@merrickdrivechurch.com
SUMMARY:Sunday Worship
DESCRIPTION:
URL:https://merrickdrivechurch.com/event/sunday-worship/2027-11-28/
LOCATION:Merrick Drive Church\, 1951 Merrick Drive\, Ardmore\, OK\, 73401\, United States
END:VEVENT
BEGIN:VEVENT
DTSTART;TZID=America/Chicago:20271128T103000
DTEND;TZID=America/Chicago:20271128T120000
DTSTAMP:20260421T063813
CREATED:20250717T222015Z
LAST-MODIFIED:20250717T222549Z
UID:10000385-1827397800-1827403200@merrickdrivechurch.com
SUMMARY:Bible Classes for All Ages
DESCRIPTION:
URL:https://merrickdrivechurch.com/event/bible-classes-for-all-ages/2027-11-28/
LOCATION:Merrick Drive Church\, 1951 Merrick Drive\, Ardmore\, OK\, 73401\, United States
END:VEVENT
BEGIN:VEVENT
DTSTART;TZID=America/Chicago:20271205T090000
DTEND;TZID=America/Chicago:20271205T100000
DTSTAMP:20260421T063813
CREATED:20250717T221725Z
LAST-MODIFIED:20250717T222621Z
UID:10000125-1827997200-1828000800@merrickdrivechurch.com
SUMMARY:Sunday Worship
DESCRIPTION:
URL:https://merrickdrivechurch.com/event/sunday-worship/2027-12-05/
LOCATION:Merrick Drive Church\, 1951 Merrick Drive\, Ardmore\, OK\, 73401\, United States
END:VEVENT
BEGIN:VEVENT
DTSTART;TZID=America/Chicago:20271205T103000
DTEND;TZID=America/Chicago:20271205T120000
DTSTAMP:20260421T063813
CREATED:20250717T222015Z
LAST-MODIFIED:20250717T222549Z
UID:10000386-1828002600-1828008000@merrickdrivechurch.com
SUMMARY:Bible Classes for All Ages
DESCRIPTION:
URL:https://merrickdrivechurch.com/event/bible-classes-for-all-ages/2027-12-05/
LOCATION:Merrick Drive Church\, 1951 Merrick Drive\, Ardmore\, OK\, 73401\, United States
END:VEVENT
BEGIN:VEVENT
DTSTART;TZID=America/Chicago:20271212T090000
DTEND;TZID=America/Chicago:20271212T100000
DTSTAMP:20260421T063813
CREATED:20250717T221725Z
LAST-MODIFIED:20250717T222621Z
UID:10000126-1828602000-1828605600@merrickdrivechurch.com
SUMMARY:Sunday Worship
DESCRIPTION:
URL:https://merrickdrivechurch.com/event/sunday-worship/2027-12-12/
LOCATION:Merrick Drive Church\, 1951 Merrick Drive\, Ardmore\, OK\, 73401\, United States
END:VEVENT
BEGIN:VEVENT
DTSTART;TZID=America/Chicago:20271212T103000
DTEND;TZID=America/Chicago:20271212T120000
DTSTAMP:20260421T063813
CREATED:20250717T222015Z
LAST-MODIFIED:20250717T222549Z
UID:10000387-1828607400-1828612800@merrickdrivechurch.com
SUMMARY:Bible Classes for All Ages
DESCRIPTION:
URL:https://merrickdrivechurch.com/event/bible-classes-for-all-ages/2027-12-12/
LOCATION:Merrick Drive Church\, 1951 Merrick Drive\, Ardmore\, OK\, 73401\, United States
END:VEVENT
BEGIN:VEVENT
DTSTART;TZID=America/Chicago:20271219T090000
DTEND;TZID=America/Chicago:20271219T100000
DTSTAMP:20260421T063813
CREATED:20250717T221725Z
LAST-MODIFIED:20250717T222621Z
UID:10000127-1829206800-1829210400@merrickdrivechurch.com
SUMMARY:Sunday Worship
DESCRIPTION:
URL:https://merrickdrivechurch.com/event/sunday-worship/2027-12-19/
LOCATION:Merrick Drive Church\, 1951 Merrick Drive\, Ardmore\, OK\, 73401\, United States
END:VEVENT
BEGIN:VEVENT
DTSTART;TZID=America/Chicago:20271219T103000
DTEND;TZID=America/Chicago:20271219T120000
DTSTAMP:20260421T063813
CREATED:20250717T222015Z
LAST-MODIFIED:20250717T222549Z
UID:10000388-1829212200-1829217600@merrickdrivechurch.com
SUMMARY:Bible Classes for All Ages
DESCRIPTION:
URL:https://merrickdrivechurch.com/event/bible-classes-for-all-ages/2027-12-19/
LOCATION:Merrick Drive Church\, 1951 Merrick Drive\, Ardmore\, OK\, 73401\, United States
END:VEVENT
END:VCALENDAR